BEGIN:VCALENDAR
VERSION:2.0
PRODID:-//ChamberMaster//Event Calendar 2.0//EN
METHOD:PUBLISH
X-PUBLISHED-TTL:P3D
REFRESH-INTERVAL:P3D
CALSCALE:GREGORIAN
BEGIN:VEVENT
DTSTART:20231020T210000Z
DTEND:20231021T000000Z
X-MICROSOFT-CDO-ALLDAYEVENT:FALSE
SUMMARY:Skeleton Crew Theater
DESCRIPTION:Skeleton Crew Theater will be having an outdoor adventure show in the woods of JaDuke in Turners Falls MA! Join the trolls of Greenwood as they try and gather all the needed ingredients for the annual brew!
X-ALT-DESC;FMTTYPE=text/html:Skeleton Crew Theater will be having an outdoor adventure show in the woods of JaDuke in Turners Falls MA! Join the trolls of Greenwood as they try and gather all the needed ingredients for the annual brew!
LOCATION:JaDuke Theater 110 Industrial Blvd Turners Falls\, MA 01376
UID:e.2182.22192
SEQUENCE:3
DTSTAMP:20260424T235103Z
URL:https://chamber.franklincc.org/events/details/skeleton-crew-theater-10-20-2023-22192
END:VEVENT

END:VCALENDAR
