BEGIN:VCALENDAR
VERSION:2.0
PRODID:-//ChamberMaster//Event Calendar 2.0//EN
METHOD:PUBLISH
X-PUBLISHED-TTL:P3D
REFRESH-INTERVAL:P3D
CALSCALE:GREGORIAN
BEGIN:VEVENT
DTSTART:20210213T003000Z
DTEND:20210213T020000Z
X-MICROSOFT-CDO-ALLDAYEVENT:FALSE
SUMMARY:Short & Sweet (tiny) New Play Festival
DESCRIPTION:15 short plays\, 12 actors\, 3 nights of Short & Sweet new plays!\n\nFriday\, February 12 will feature 8 plays directed by Julian Findlay.\n\nSaturday\, February 13 will have 7 plays under the direction of Ben Ware.\n\nEach night the audience members will have a chance to vote for their top 4 favorite shows\, and on Sunday\, February 14\, the top 8 shows will be streamed again!\n\nGet your tickets now! Festival Passes available for all 3 nights!\n\nhttps://stc.booktix.com/\n\nFor the full menu of each night's plays\, please visit our website: https://silverthornetheater.org/special-events/\n\nThe Short & Sweet (tiny) New Play Festival is supported in part by the Massachusetts Cultural Council.
X-ALT-DESC;FMTTYPE=text/html:<div class="o9v6fnle cxmmr5t8 oygrvhab hcukyx3x c1et5uql" style="overflow-wrap: break-word\; margin: 0.5em 0px 0px\; font-family: &quot\;Segoe UI Historic&quot\;\, &quot\;Segoe UI&quot\;\, Helvetica\, Arial\, sans-serif\; color: rgb(5\, 5\, 5)\; font-size: 15px\; animation-name: none !important\; transition-property: none !important\;">15 short plays\, 12 actors\, 3 nights of Short &amp\; Sweet new plays!</div>\n\n<div class="o9v6fnle cxmmr5t8 oygrvhab hcukyx3x c1et5uql" style="overflow-wrap: break-word\; margin: 0.5em 0px 0px\; font-family: &quot\;Segoe UI Historic&quot\;\, &quot\;Segoe UI&quot\;\, Helvetica\, Arial\, sans-serif\; color: rgb(5\, 5\, 5)\; font-size: 15px\; animation-name: none !important\; transition-property: none !important\;">Friday\, February 12 will feature 8 plays directed by Julian Findlay.<br style="animation-name: none !important\; transition-property: none !important\;" />\nSaturday\, February 13 will have 7 plays under the direction of Ben Ware.</div>\n\n<div class="o9v6fnle cxmmr5t8 oygrvhab hcukyx3x c1et5uql" style="overflow-wrap: break-word\; margin: 0.5em 0px 0px\; font-family: &quot\;Segoe UI Historic&quot\;\, &quot\;Segoe UI&quot\;\, Helvetica\, Arial\, sans-serif\; color: rgb(5\, 5\, 5)\; font-size: 15px\; animation-name: none !important\; transition-property: none !important\;">Each night the audience members will have a chance to vote for their top 4 favorite shows\, and on Sunday\, February 14\, the top 8 shows will be streamed again!</div>\n\n<div class="o9v6fnle cxmmr5t8 oygrvhab hcukyx3x c1et5uql" style="overflow-wrap: break-word\; margin: 0.5em 0px 0px\; font-family: &quot\;Segoe UI Historic&quot\;\, &quot\;Segoe UI&quot\;\, Helvetica\, Arial\, sans-serif\; color: rgb(5\, 5\, 5)\; font-size: 15px\; animation-name: none !important\; transition-property: none !important\;">Get your tickets now! Festival Passes available for all 3 nights!<br style="animation-name: none !important\; transition-property: none !important\;" />\n<a class="oajrlxb2 g5ia77u1 qu0x051f esr5mh6w e9989ue4 r7d6kgcz rq0escxv nhd2j8a9 nc684nl6 p7hjln8o kvgmc6g5 cxmmr5t8 oygrvhab hcukyx3x jb3vyjys rz4wbd8a qt6c0cv9 a8nywdso i1ao9s8h esuyzwwr f1sip0of lzcic4wl py34i1dx gpro0wi8" href="https://stc.booktix.com/" rel="nofollow noopener" role="link" style="color: var(--blue-link)\; cursor: pointer\; text-decoration-line: none\; outline: none\; list-style: none\; border-width: 0px\; border-style: initial\; border-color: initial\; padding: 0px\; margin: 0px\; touch-action: manipulation\; background-color: transparent\; text-align: inherit\; display: inline\; -webkit-tap-highlight-color: transparent\; box-sizing: border-box\; font-family: inherit\; animation-name: none !important\; transition-property: none !important\;" tabindex="0" target="_blank">https://stc.booktix.com/</a></div>\n\n<div class="o9v6fnle cxmmr5t8 oygrvhab hcukyx3x c1et5uql" style="overflow-wrap: break-word\; margin: 0.5em 0px 0px\; font-family: &quot\;Segoe UI Historic&quot\;\, &quot\;Segoe UI&quot\;\, Helvetica\, Arial\, sans-serif\; color: rgb(5\, 5\, 5)\; font-size: 15px\; animation-name: none !important\; transition-property: none !important\;">For the full menu of each night&rsquo\;s plays\, please visit our website:&nbsp\;<a class="oajrlxb2 g5ia77u1 qu0x051f esr5mh6w e9989ue4 r7d6kgcz rq0escxv nhd2j8a9 nc684nl6 p7hjln8o kvgmc6g5 cxmmr5t8 oygrvhab hcukyx3x jb3vyjys rz4wbd8a qt6c0cv9 a8nywdso i1ao9s8h esuyzwwr f1sip0of lzcic4wl py34i1dx gpro0wi8" href="https://silverthornetheater.org/special-events/?fbclid=IwAR0w_UHvshfiDew3vaHQhzuScFwc0HevCuhk-iwkqECbgq-wmcwVHmd2aPQ" rel="nofollow noopener" role="link" style="color: var(--blue-link)\; cursor: pointer\; text-decoration-line: none\; outline: none\; list-style: none\; border-width: 0px\; border-style: initial\; border-color: initial\; padding: 0px\; margin: 0px\; touch-action: manipulation\; background-color: transparent\; text-align: inherit\; display: inline\; -webkit-tap-highlight-color: transparent\; box-sizing: border-box\; font-family: inherit\; animation-name: none !important\; transition-property: none !important\;" tabindex="0" target="_blank">https://silverthornetheater.org/special-events/</a></div>\n\n<div class="o9v6fnle cxmmr5t8 oygrvhab hcukyx3x c1et5uql" style="overflow-wrap: break-word\; margin: 0.5em 0px 0px\; font-family: &quot\;Segoe UI Historic&quot\;\, &quot\;Segoe UI&quot\;\, Helvetica\, Arial\, sans-serif\; color: rgb(5\, 5\, 5)\; font-size: 15px\; animation-name: none !important\; transition-property: none !important\;">The Short &amp\; Sweet (tiny) New Play Festival is supported in part by the Massachusetts Cultural Council.</div>\n
LOCATION:
UID:e.2182.17807
SEQUENCE:3
DTSTAMP:20260420T074740Z
URL:https://chamber.franklincc.org/events/details/short-sweet-tiny-new-play-festival-17807
END:VEVENT

END:VCALENDAR
