BEGIN:VCALENDAR
VERSION:2.0
PRODID:-//ChamberMaster//Event Calendar 2.0//EN
METHOD:PUBLISH
X-PUBLISHED-TTL:P3D
REFRESH-INTERVAL:P3D
CALSCALE:GREGORIAN
BEGIN:VEVENT
DTSTART:20230816T230000Z
DTEND:20230817T003000Z
X-MICROSOFT-CDO-ALLDAYEVENT:FALSE
SUMMARY:Shelburne Falls Military Band – 2023 Summer Concert Series
DESCRIPTION:Join the Shelburne Falls Military Band for our 188th concert season!\n\n\n\nConcerts are held at 7pm on Wednesday nights at various locations around the West County. Admission is FREE   just bring a lawn chair and some cash for refreshments.\n\n\n\nJuly 5th @ Fellowship Hall in Shelburne Center\n\nJuly 12th @ the Federated Church in Charlemont\n\nJuly 19th @ the Band Shell next to Buckland-Shelburne Elementary\n\nJuly 26th @ the Band Shell next to Buckland-Shelburne Elementary\n\nAugust 2nd @ Fellowship Hall in Shelburne Center\n\nAugust 9th @ the Mary Lyon Church in Buckland Center\n\nAugust 16th @ the Fire Station in Colrain
X-ALT-DESC;FMTTYPE=text/html:Join the Shelburne Falls Military Band for our 188th concert season!<br />\n<br />\nConcerts are held at 7pm on Wednesday nights at various locations around the West County. Admission is FREE &ndash\; just bring a lawn chair and some cash for refreshments.<br />\n<br />\nJuly 5th @ Fellowship Hall in Shelburne Center<br />\nJuly 12th @ the Federated Church in Charlemont<br />\nJuly 19th @ the Band Shell next to Buckland-Shelburne Elementary<br />\nJuly 26th @ the Band Shell next to Buckland-Shelburne Elementary<br />\nAugust 2nd @ Fellowship Hall in Shelburne Center<br />\nAugust 9th @ the Mary Lyon Church in Buckland Center<br />\nAugust 16th @ the Fire Station in Colrain
LOCATION:
UID:e.2182.19955
SEQUENCE:3
DTSTAMP:20260425T023617Z
URL:https://chamber.franklincc.org/events/details/shelburne-falls-military-band-2023-summer-concert-series-08-16-2023-19955
END:VEVENT

END:VCALENDAR
