BEGIN:VCALENDAR
VERSION:2.0
PRODID:-//ChamberMaster//Event Calendar 2.0//EN
METHOD:PUBLISH
X-PUBLISHED-TTL:P3D
REFRESH-INTERVAL:P3D
CALSCALE:GREGORIAN
BEGIN:VEVENT
DTSTART:20251017T180000Z
DTEND:20251017T223000Z
X-MICROSOFT-CDO-ALLDAYEVENT:FALSE
SUMMARY:Shelburne Falls Farmers Market
DESCRIPTION:Featuring local vegetables\, plants\, maple syrup & candy\, beef\, pork\, chicken\, lamb\, eggs\, pickles\, seated bodywork\, hand-forged items\, honey\, jams\, marmalade\, herbs\, jewelry\, salves\, flowers\, frozen ready-to-bake meat or fruit pies\, yearn\, greens\, sheepskins\, popcorn\, bath slats\, soap\, herbal teas\, cards\, local crafts and more. Live music each week.
X-ALT-DESC;FMTTYPE=text/html:Featuring local vegetables\, plants\, maple syrup &amp\; candy\, beef\, pork\, chicken\, lamb\, eggs\, pickles\, seated bodywork\, hand-forged items\, honey\, jams\, marmalade\, herbs\, jewelry\, salves\, flowers\, frozen ready-to-bake meat or fruit pies\, yearn\, greens\, sheepskins\, popcorn\, bath slats\, soap\, herbal teas\, cards\, local crafts and more. Live music each week.
LOCATION:Corner of Main and Water Streets Shelburne Falls
UID:e.2182.25112
SEQUENCE:3
DTSTAMP:20260420T113033Z
URL:https://chamber.franklincc.org/events/details/shelburne-falls-farmers-market-10-17-2025-25112
END:VEVENT

END:VCALENDAR
