BEGIN:VCALENDAR
VERSION:2.0
PRODID:-//ChamberMaster//Event Calendar 2.0//EN
METHOD:PUBLISH
X-PUBLISHED-TTL:P3D
REFRESH-INTERVAL:P3D
CALSCALE:GREGORIAN
BEGIN:VEVENT
DTSTART:20190406T140000Z
DTEND:20190406T150000Z
X-MICROSOFT-CDO-ALLDAYEVENT:FALSE
SUMMARY:Sew What: A Drop-In Embroidery Group for Teens
DESCRIPTION:Beginners welcome\, materials provided and free! For ages 13-18.
X-ALT-DESC;FMTTYPE=text/html:Beginners welcome\, materials provided and free! For ages 13-18.
LOCATION:Greenfield Public Library Teen Area 402 Main Street\, Greenfield
UID:e.2182.13995
SEQUENCE:3
DTSTAMP:20260423T130150Z
URL:https://chamber.franklincc.org/events/details/sew-what-a-drop-in-embroidery-group-for-teens-04-06-2019-13995
END:VEVENT

END:VCALENDAR
