BEGIN:VCALENDAR
VERSION:2.0
PRODID:-//ChamberMaster//Event Calendar 2.0//EN
METHOD:PUBLISH
X-PUBLISHED-TTL:P3D
REFRESH-INTERVAL:P3D
CALSCALE:GREGORIAN
BEGIN:VEVENT
DTSTART:20250906T233000Z
DTEND:20250907T010000Z
X-MICROSOFT-CDO-ALLDAYEVENT:FALSE
SUMMARY:Seth Glier at 1794 Meetinghouse
DESCRIPTION:Seth's gifts are an innate curiosity and a fierce desire to connect with other people. His musical acumen provides him with a vehicle for both. He was worked as a cultural diplomat for the US State Department and collaborated with musicians in Ukraine\, Mongolia\, China\, and Mexico. Seth has shared the bill with a diverse list of artists ranging from the likes of Ronnie Spector\, James Taylor\, Ani DiFranco\, & Glen Campbell. As a producer\, music director\, or studio musician he has collaborated with Sophie B. Hawkins\, Tom Rush\, Antje Duvekot\, Richard Shindell\, Doctora Qingona\, Dar Williams\, Nick Carter\, & Cyndi Lauper. Seth is a five-time Independent Music Award winner and received a Grammy nomination for his album The Next Right Thing. With a commitment to using songwriting as a tool for positive change\, he has written with the students in Parkland\, FL for the "Parkland Project\," cowritten with soldiers at Walter Reed\, and is an advocate for autism awareness citing his autistic brother Jamie as his greatest non-musical-musical influence.
X-ALT-DESC;FMTTYPE=text/html:Seth&rsquo\;s gifts are an innate curiosity and a fierce desire to connect with other people. His musical acumen provides him with a vehicle for both. He was worked as a cultural diplomat for the US State Department and collaborated with musicians in Ukraine\, Mongolia\, China\, and Mexico. Seth has shared the bill with a diverse list of artists ranging from the likes of Ronnie Spector\, James Taylor\, Ani DiFranco\, &amp\; Glen Campbell. As a producer\, music director\, or studio musician he has collaborated with Sophie B. Hawkins\, Tom Rush\, Antje Duvekot\, Richard Shindell\, Doctora Qingona\, Dar Williams\, Nick Carter\, &amp\; Cyndi Lauper. Seth is a five-time Independent Music Award winner and received a Grammy nomination for his album The Next Right Thing. With a commitment to using songwriting as a tool for positive change\, he has written with the students in Parkland\, FL for the &ldquo\;Parkland Project\,&rdquo\; cowritten with soldiers at Walter Reed\, and is an advocate for autism awareness citing his autistic brother Jamie as his greatest non-musical-musical influence.
LOCATION:1794 Meetinghouse 26 South Main Street New Salem 01355
UID:e.2182.24925
SEQUENCE:3
DTSTAMP:20260424T045257Z
URL:https://chamber.franklincc.org/events/details/seth-glier-at-1794-meetinghouse-24925
END:VEVENT

END:VCALENDAR
