BEGIN:VCALENDAR
VERSION:2.0
PRODID:-//ChamberMaster//Event Calendar 2.0//EN
METHOD:PUBLISH
X-PUBLISHED-TTL:P3D
REFRESH-INTERVAL:P3D
CALSCALE:GREGORIAN
BEGIN:VEVENT
DTSTART:20201219T180000Z
DTEND:20201219T210000Z
X-MICROSOFT-CDO-ALLDAYEVENT:FALSE
SUMMARY:Saturday Salon at LAVA Center
DESCRIPTION:Every Saturday\, stop by The LAVA Center for an eclectic offering of local shopping and art. The Saturday Salon Series is a popup marketplace featuring all local vendors selling all local wares\, plus our community art show gallery\, art and video installations\, curated music\, local vendors\, and more.\n\nThe Saturday Salon will also feature artists from the community art show currently on display. For updates on featured artists and new vendors\, please see the discussion tab of this event.\n\nTo get updates on each Saturday's offerings\, mark yourself as 'Interested' in this event to get updates.\n\nInterested in being a vendor or artist at one of these events? Check out the post in the discussion tab for more information.\n\nPandemic guidelines: Please sanitize or wash your hands immediately upon entering our space. Wear masks at all times while inside our space or right outside the building. Practice physical distancing with people outside your household. We have a strict capacity limit due to the pandemic.
X-ALT-DESC;FMTTYPE=text/html:Every Saturday\, stop by The LAVA Center for an eclectic offering of local shopping and art. The Saturday Salon Series is a popup marketplace featuring all local vendors selling all local wares\, plus our community art show gallery\, art and video installations\, curated music\, local vendors\, and more.<br />\nThe Saturday Salon will also feature artists from the community art show currently on display. For updates on featured artists and new vendors\, please see the discussion tab of this event.<br />\nTo get updates on each Saturday&rsquo\;s offerings\, mark yourself as &#39\;Interested&#39\; in this event to get updates.<br />\nInterested in being a vendor or artist at one of these events? Check out the post in the discussion tab for more information.<br />\nPandemic guidelines: Please sanitize or wash your hands immediately upon entering our space. Wear masks at all times while inside our space or right outside the building. Practice physical distancing with people outside your household. We have a strict capacity limit due to the pandemic.
LOCATION:The LAVA Center 324 Main Street\, Greenfield MA
UID:e.2182.17680
SEQUENCE:3
DTSTAMP:20260420T111245Z
URL:https://chamber.franklincc.org/events/details/saturday-salon-at-lava-12-19-2020-17680
END:VEVENT

END:VCALENDAR
