BEGIN:VCALENDAR
VERSION:2.0
PRODID:-//ChamberMaster//Event Calendar 2.0//EN
METHOD:PUBLISH
X-PUBLISHED-TTL:P3D
REFRESH-INTERVAL:P3D
CALSCALE:GREGORIAN
BEGIN:VEVENT
DTSTART:20181117T170000Z
DTEND:20181117T230000Z
X-MICROSOFT-CDO-ALLDAYEVENT:FALSE
SUMMARY:Santa's Coming to Town
DESCRIPTION:SANTA'S COMING TO TOWN!\n\nVia Kringle Express Train\n\nThank you to Mass DOT & Amtrak\n\nSaturday\, November 17\, Noon to 6 p.m.\n\nSanta arrives at the Shoppes at Kringle Candle via the Kringle Express train at approximately 1:30 to 2 pm. A special thanks to Amtrak & Mass DOT. As we await Santa's arrival\, enjoy stilt walking\, juggling\, magic\, balancing acts\, interactive circus workshops\, The Farm Table food grilling\, kettle corn\, warming up with Santa's favorite hot chocolate\, mulled cider & more!\n\nKringle Kids activities include Letters to Santa & Cookie Decorating.\n\nSPECIAL PHOTO VISIT WITH SANTA\n\nThis year photo visits with Santa are first come\, first served basis. Dani Fine Photography will be on hand offering quality digital Santa photos ($20) for kids & families after Santa's arrival from approximately 2:30 to 6 p.m. at the Kringle Country Barn. As this is a professional photo shoot visit\, we are sorry no other photos (personal).\n\nWe'll see you on Saturday\, November 17\, noon to 6 pm. Santa's Coming to Town! And he's bringing Mrs. Claus too!\n\n(413) 648-3077   Kringle Candle Company   220 South Street   Bernardston\, MA 01337
X-ALT-DESC;FMTTYPE=text/html:<h2 style="text-align:center">SANTA&rsquo\;S COMING TO TOWN!<br />\nVia Kringle Express Train<br />\nThank you to Mass DOT &amp\; Amtrak<br />\nSaturday\, November 17\, Noon to 6 p.m.</h2>\n\n<p>Santa arrives at the Shoppes at Kringle Candle via the Kringle Express train at approximately 1:30 to 2 pm. A special thanks to Amtrak &amp\; Mass DOT. As we await Santa&rsquo\;s arrival\, enjoy stilt walking\, juggling\, magic\, balancing acts\, interactive circus workshops\, The Farm Table food grilling\, kettle corn\, warming up with Santa&rsquo\;s favorite hot chocolate\, mulled cider &amp\; more!</p>\n\n<p>Kringle Kids activities include Letters to Santa &amp\; Cookie Decorating.</p>\n\n<h3 style="text-align:center"><strong>SPECIAL PHOTO VISIT WITH SANTA</strong></h3>\n\n<p><strong>This year photo visits with Santa are first come\, first served basis.</strong>&nbsp\;Dani Fine Photography will be on hand offering quality digital Santa photos ($20) for kids &amp\; families after Santa&rsquo\;s arrival from approximately 2:30 to 6 p.m. at the Kringle Country Barn. As this is a professional photo shoot visit\, we are sorry no other photos (personal).</p>\n\n<p>We&rsquo\;ll see you on Saturday\, November 17\, noon to 6 pm. Santa&rsquo\;s Coming to Town! And he&#39\;s bringing Mrs. Claus too!</p>\n\n<p>(413) 648-3077 &bull\; Kringle Candle Company &bull\; 220 South Street &bull\; Bernardston\, MA 01337&nbsp\;</p>\n
LOCATION:Kringle Candle The Shoppes at Kringle Candle 220 South Street Bernardston\, MA 01337
UID:e.2182.13461
SEQUENCE:3
DTSTAMP:20260424T212016Z
URL:https://chamber.franklincc.org/events/details/santa-s-coming-to-town-11-17-2018-13461
END:VEVENT

END:VCALENDAR
