BEGIN:VCALENDAR
VERSION:2.0
PRODID:-//ChamberMaster//Event Calendar 2.0//EN
METHOD:PUBLISH
X-PUBLISHED-TTL:P3D
REFRESH-INTERVAL:P3D
CALSCALE:GREGORIAN
BEGIN:VEVENT
DTSTART:20200725T200000Z
DTEND:20200726T010000Z
X-MICROSOFT-CDO-ALLDAYEVENT:FALSE
SUMMARY:Roll On In Drive-In Concert Series
DESCRIPTION:Summer Concert Series - Drive-in venue with live entertainment.\n\nFriday Performers: featuring regional headlining act RCA ( a super group comprised of Dopapod guitarist Rob Compa with Adrian Thompson\, drummer\, and Chris DeAngelis\, bassist\, of Kung Fu). Western Mass band Danny Pease & The Regulators.\n\nSaturday's concert will feature The Breakfast\, an East Haven\, CT group\; Shantman\, a funk group hailing from the regions hilltowns\; and New Mosaic\, which performs soul music. Honeycomb\, a beatboxer who has received national accolades\; Uncle Bob\, a performing artist who specializes in mixing.\n\nComedian Timothy Lovett will take the stage both days.\n\nThe venue is implementing plenty of precautions to prevent the spread of COVID-19. For example\, the stage\, which stands about 40 feet tall with a platform that's 6 feet off the ground\, has be positioned facing a field. Organizers have outlined parking spaces for about 200 cars. Each space will be a double parking space. Attendees can set up chair in their parking space. Attendees cannot mingle if they didn't come in the same car. Each group must stay in their space except to use the restroom\, or go the concession stand or food truck. Masks must be worn when out of your parking space. There are no trash attendants\, so attendee need to take their trash with them.\n\nThis weekend Bruiser's BBQ food truck with be serving barbecue fare. Attendees are allowed to bring their own coolers. Alcoholic drinks will not be available for purchase.
X-ALT-DESC;FMTTYPE=text/html:Summer Concert Series - Drive-in venue with live entertainment.<br />\nFriday Performers: featuring regional headlining act <strong>RCA</strong> ( a super group comprised of Dopapod guitarist Rob Compa with Adrian Thompson\, drummer\, and Chris DeAngelis\, bassist\, of Kung Fu). Western Mass band Danny Pease &amp\; The Regulators.<br />\nSaturday&#39\;s concert will feature The Breakfast\, an East Haven\, CT group\; Shantman\, a funk group hailing from the regions hilltowns\; and New Mosaic\, which performs soul music. Honeycomb\, a beatboxer who has received national accolades\; Uncle Bob\, a performing artist who specializes in mixing.<br />\nComedian Timothy Lovett will take the stage both days.<br />\nThe venue is implementing plenty of precautions to prevent the spread of COVID-19. For example\, the stage\, which stands about 40 feet tall with a platform that&#39\;s 6 feet off the ground\, has be positioned facing a field. Organizers have outlined parking spaces for about 200 cars. Each space will be a double parking space. Attendees can set up chair in their parking space. Attendees cannot mingle if they didn&#39\;t come in the same car. Each group must stay in their space except to use the restroom\, or go the concession stand or food truck. Masks must be worn when out of your parking space. There are no trash attendants\, so attendee need to take their trash with them.<br />\nThis weekend Bruiser&#39\;s BBQ food truck with be serving barbecue fare. Attendees are allowed to bring their own coolers. Alcoholic drinks will not be available for purchase.
LOCATION:Franklin County Fairgrounds 98 Wisdom Way\, Greenfield
UID:e.2182.17643
SEQUENCE:3
DTSTAMP:20260420T152730Z
URL:https://chamber.franklincc.org/events/details/roll-on-in-drive-in-concert-series-17643
END:VEVENT

END:VCALENDAR
