BEGIN:VCALENDAR
VERSION:2.0
PRODID:-//ChamberMaster//Event Calendar 2.0//EN
METHOD:PUBLISH
X-PUBLISHED-TTL:P3D
REFRESH-INTERVAL:P3D
CALSCALE:GREGORIAN
BEGIN:VEVENT
DTSTART:20250809T140000Z
DTEND:20250809T140000Z
X-MICROSOFT-CDO-ALLDAYEVENT:FALSE
SUMMARY:River Baron Walk: Reshaping New England’s Longest River
DESCRIPTION:Experience America's longest log drive through the photos and stories of locals\, laborers and the infamous River Baron\, George Van Dyke. Join us for an easy 1.25-mile hike through downtown Turners Falls and along the Canalside Rail Trail. This walk is scheduled for rain or shine. For adults and children ages 9 and up. Meet at the main entrance.
X-ALT-DESC;FMTTYPE=text/html:Experience America&#39\;s longest log drive through the photos and stories of locals\, laborers and the infamous River Baron\, George Van Dyke. Join us for an easy 1.25-mile hike through downtown Turners Falls and along the Canalside Rail Trail. This walk is scheduled for rain or shine. For adults and children ages 9 and up. Meet at the main entrance.<br />\n
LOCATION:Great Falls Discovery Center 2 Avenue A Turners Falls\, MA
UID:e.2182.24968
SEQUENCE:3
DTSTAMP:20260424T013621Z
URL:https://chamber.franklincc.org/events/details/river-baron-walk-reshaping-new-england-s-longest-river-24968
END:VEVENT

END:VCALENDAR
