BEGIN:VCALENDAR
VERSION:2.0
PRODID:-//ChamberMaster//Event Calendar 2.0//EN
METHOD:PUBLISH
X-PUBLISHED-TTL:P3D
REFRESH-INTERVAL:P3D
CALSCALE:GREGORIAN
BEGIN:VEVENT
DTSTART:20200920T120000Z
DTEND:20200920T160000Z
X-MICROSOFT-CDO-ALLDAYEVENT:FALSE
SUMMARY:Race Against Child Abuse
DESCRIPTION:The Race Against  Child Abuse is a 5k run or walk including children races. We hope everyone dresses as a Super Hero. Registration is at 8AM at the Franklin County Fairgrounds. Children races are at 8:45 and the 5k at 9 AM. Prizes for children\, times race for the 5k and popcorn and home made cookies for all. Please go to  CACfranklinnq.org to register.
X-ALT-DESC;FMTTYPE=text/html:The Race Against&nbsp\; Child Abuse is a 5k run or walk including children races. We hope everyone dresses as a Super Hero. Registration is at 8AM at the Franklin County Fairgrounds. Children races are at 8:45 and the 5k at 9 AM. Prizes for children\, times race for the 5k and popcorn and home made cookies for all. Please go to&nbsp\; <a href="http://CACfranklinnq.org">CACfranklinnq.org</a> to register.
LOCATION:Fairgrounds Greenfield MA
UID:e.2182.17631
SEQUENCE:3
DTSTAMP:20260423T085715Z
URL:https://chamber.franklincc.org/events/details/race-against-child-abuse-17631
END:VEVENT

END:VCALENDAR
