BEGIN:VCALENDAR
VERSION:2.0
PRODID:-//ChamberMaster//Event Calendar 2.0//EN
METHOD:PUBLISH
X-PUBLISHED-TTL:P3D
REFRESH-INTERVAL:P3D
CALSCALE:GREGORIAN
BEGIN:VEVENT
DTSTART:20250309T190000Z
DTEND:20250309T190000Z
X-MICROSOFT-CDO-ALLDAYEVENT:FALSE
SUMMARY:Quabbin Obscura: The Swift River in Black-&-White
DESCRIPTION:From farm to canvas to camera\, artist Burt V. Brooks (1849-1934) captured the landscapes and daily life in the "drowned towns" before the Quabbin Reservoir (today managed by DCR) was filled. Join DCR staff as we look back on Brooks' work for answers about who he was and what life in the Swift River Valley was like around the turn of the century. Ages 12 and up. Meet in the Great Hall.
X-ALT-DESC;FMTTYPE=text/html:<span style="color:black\;"><span style="font-family:georgia\,serif\;"><span style="font-size:12.0pt\;">From farm to canvas to camera\, artist Burt V. Brooks (1849-1934) captured the landscapes and daily life in the &ldquo\;drowned towns&rdquo\; before the Quabbin Reservoir (today managed by DCR) was filled. Join DCR staff as we look back on Brooks&rsquo\; work for answers about who he was and what life in the Swift River Valley was like around the turn of the century. Ages 12 and up. Meet in the Great Hall.</span></span></span>
LOCATION:Great Falls Discovery Center 2 Avenue A Turners Falls\, MA
UID:e.2182.24253
SEQUENCE:3
DTSTAMP:20260423T224743Z
URL:https://chamber.franklincc.org/events/details/quabbin-obscura-the-swift-river-in-black-white-24253
END:VEVENT

END:VCALENDAR
