BEGIN:VCALENDAR
VERSION:2.0
PRODID:-//ChamberMaster//Event Calendar 2.0//EN
METHOD:PUBLISH
X-PUBLISHED-TTL:P3D
REFRESH-INTERVAL:P3D
CALSCALE:GREGORIAN
BEGIN:VEVENT
DTSTART:20251004T130000Z
DTEND:20251004T220000Z
X-MICROSOFT-CDO-ALLDAYEVENT:FALSE
SUMMARY:Pre-Festival Events - Conway Festival of the Hills
DESCRIPTION:9am-2pm   Festival Bake Sale   Town Center\n	9am-3:30pm   Friends of Library Book Sale   Field Memorial Library\n	2-4pm   Howland Cemetery Tour   Cemetery Hill Road\n	2-6 pm   Conway Cruise Night   car show\, music\, 50s style and struttin'   Town Center\n	5:30pm   Turkey Dinner   Dine-in and take-out   (413) 369-4936 for reservations   Conway Grammar School
X-ALT-DESC;FMTTYPE=text/html:<ul style="box-sizing: border-box\; border: 0px\; font-size: 16px\; margin-top: 0px\; margin-right: 0px\; margin-left: 3em\; outline: 0px\; padding-right: 0px\; padding-left: 0px\; vertical-align: baseline\; list-style-position: initial\; list-style-image: initial\; color: rgb(53\, 53\, 53)\; font-family: &quot\;Plus Jakarta Sans&quot\;\, sans-serif\; margin-bottom: 1em !important\;">\n	<li style="box-sizing: border-box\; border: 0px\; font-style: inherit\; font-weight: inherit\; margin: 0px\; outline: 0px\; padding: 0px\; vertical-align: baseline\;"><span style="box-sizing: border-box\; font-weight: 700\;">9am-2pm</span>&nbsp\;&ndash\;&nbsp\;<span style="box-sizing: border-box\; font-weight: 700\;">Festival Bake Sale</span>&nbsp\;&ndash\; Town Center</li>\n	<li style="box-sizing: border-box\; border: 0px\; font-style: inherit\; font-weight: inherit\; margin: 0px\; outline: 0px\; padding: 0px\; vertical-align: baseline\;"><span style="box-sizing: border-box\; font-weight: 700\;">9am-3:30pm</span>&nbsp\;&ndash\;&nbsp\;<span style="box-sizing: border-box\; font-weight: 700\;">Friends of Library Book Sale</span>&nbsp\;&ndash\; Field Memorial Library</li>\n	<li style="box-sizing: border-box\; border: 0px\; font-style: inherit\; font-weight: inherit\; margin: 0px\; outline: 0px\; padding: 0px\; vertical-align: baseline\;"><span style="box-sizing: border-box\; font-weight: 700\;">2-4pm</span>&nbsp\;&ndash\;&nbsp\;<span style="box-sizing: border-box\; font-weight: 700\;">Howland Cemetery Tour</span>&nbsp\;&ndash\; Cemetery Hill Road</li>\n	<li style="box-sizing: border-box\; border: 0px\; font-style: inherit\; font-weight: inherit\; margin: 0px\; outline: 0px\; padding: 0px\; vertical-align: baseline\;"><span style="box-sizing: border-box\; font-weight: 700\;">2-6 pm</span>&nbsp\;&ndash\;&nbsp\;<span style="box-sizing: border-box\; font-weight: 700\;">Conway Cruise Night</span>&nbsp\;&ndash\; car show\, music\, 50s style and struttin&rsquo\; &ndash\; Town Center</li>\n	<li style="box-sizing: border-box\; border: 0px\; font-style: inherit\; font-weight: inherit\; margin: 0px\; outline: 0px\; padding: 0px\; vertical-align: baseline\;"><span style="box-sizing: border-box\; font-weight: 700\;">5:30pm</span>&nbsp\;&ndash\;&nbsp\;<span style="box-sizing: border-box\; font-weight: 700\;">Turkey Dinner</span>&nbsp\;&ndash\; Dine-in and take-out &ndash\; (413) 369-4936 for reservations &ndash\; Conway Grammar School</li>\n</ul>\n
LOCATION:Conway
UID:e.2182.25162
SEQUENCE:3
DTSTAMP:20260420T114607Z
URL:https://chamber.franklincc.org/events/details/pre-festival-events-conway-festival-of-the-hills-25162
END:VEVENT

END:VCALENDAR
