BEGIN:VCALENDAR
VERSION:2.0
PRODID:-//ChamberMaster//Event Calendar 2.0//EN
METHOD:PUBLISH
X-PUBLISHED-TTL:P3D
REFRESH-INTERVAL:P3D
CALSCALE:GREGORIAN
BEGIN:VEVENT
DTSTART:20230219T000000Z
DTEND:20230219T010000Z
X-MICROSOFT-CDO-ALLDAYEVENT:FALSE
SUMMARY:"Power of the Protest Song"
DESCRIPTION:Mount Toby Concert Series.\n\nPamela Mason will present "The Power of the Protest Song: Our Shared History and Present Day." Part performance and part presentation. Means will explore the origin stories and lineages of protest songs and how those meanings and effects transform through time\, as well as how those songs continue to inspire current racial and social justice movements. The Easthampton-based artist will perform original songs and recognizable covers.\n\nMasks are required indoors.
X-ALT-DESC;FMTTYPE=text/html:Mount Toby Concert Series.<br />\nPamela Mason will present &quot\;The Power of the Protest Song: Our Shared History and Present Day.&quot\; Part performance and part presentation. Means will explore the origin stories and lineages of protest songs and how those meanings and effects transform through time\, as well as how those songs continue to inspire current racial and social justice movements. The Easthampton-based artist will perform original songs and recognizable covers.<br />\nMasks are required indoors.
LOCATION:Mt Toby Friends Quaker Meeting House 194 Long Plain Road Leverett
UID:e.2182.19423
SEQUENCE:3
DTSTAMP:20260424T202603Z
URL:https://chamber.franklincc.org/events/details/power-of-the-protest-song-19423
END:VEVENT

END:VCALENDAR
