BEGIN:VCALENDAR
VERSION:2.0
PRODID:-//ChamberMaster//Event Calendar 2.0//EN
METHOD:PUBLISH
X-PUBLISHED-TTL:P3D
REFRESH-INTERVAL:P3D
CALSCALE:GREGORIAN
BEGIN:VEVENT
DTSTART:20190503T230000Z
DTEND:20190504T013000Z
X-MICROSOFT-CDO-ALLDAYEVENT:FALSE
SUMMARY:Pothole Pictures - One of Cary Grant’s Best Comedies! — THE AWFUL TRUTH
DESCRIPTION:In this classic screwball comedy from the 30s\, Cary Grant and Irene Dunne brilliantly play a couple that get divorced for all the wrong reasons.  High jinks ensue\, many involving their dog\, Mr. Smith\, who went on to an even bigger role as Asta in "The Thin Man." Chosen as one of the "100 Funniest American Movies" and "100 Greatest Love Stories" by AFI and as one of the "50 Greatest Comedies of All Time" by Premiere Magazine. 1937. Also stars Ralph Bellamy.\n\nDirector: Leo McCarey. B&W. 90 min. Not Rated.\n\nLive music on stage 7-7:30pm\n\nFriday & Saturday: Dick Moulding   Ragtime & stride piano on Memorial Hall's beautiful\, old upright
X-ALT-DESC;FMTTYPE=text/html:In this classic screwball comedy from the 30s\, Cary Grant and Irene Dunne brilliantly play a couple that get divorced for all the wrong reasons.&nbsp\; High jinks ensue\, many involving their dog\, Mr. Smith\, who went on to an even bigger role as Asta in &ldquo\;The Thin Man.&rdquo\; Chosen as one of the &ldquo\;100 Funniest American Movies&rdquo\; and &ldquo\;100 Greatest Love Stories&rdquo\; by AFI and as one of the &ldquo\;50 Greatest Comedies of All Time&rdquo\; by Premiere Magazine. 1937. Also stars Ralph Bellamy.<br />\nDirector: Leo McCarey. B&amp\;W. 90 min. Not Rated.<br />\nLive music on stage 7-7:30pm<br />\nFriday &amp\; Saturday: Dick Moulding &ndash\; Ragtime &amp\; stride piano on Memorial Hall&rsquo\;s beautiful\, old upright
LOCATION:Nenorial Hall Theater 51 Bridge Street\, Shelburne Falls
UID:e.2182.14971
SEQUENCE:3
DTSTAMP:20260424T132621Z
URL:https://chamber.franklincc.org/events/details/pothole-pictures-one-of-cary-grant-s-best-comedies-the-awful-truth-14971
END:VEVENT

END:VCALENDAR
