BEGIN:VCALENDAR
VERSION:2.0
PRODID:-//ChamberMaster//Event Calendar 2.0//EN
METHOD:PUBLISH
X-PUBLISHED-TTL:P3D
REFRESH-INTERVAL:P3D
CALSCALE:GREGORIAN
BEGIN:VEVENT
DTSTART:20240919T120000Z
DTEND:20240919T200000Z
X-MICROSOFT-CDO-ALLDAYEVENT:FALSE
SUMMARY:Pop-Up Sales at Baystate FMC
DESCRIPTION:Featuring Sue Carlson Designs. Items include: quilts\, runners\, aprons\, placemats and other interesting items. Using vintage\, ethnic nd good looking fabrics.  Holiday Preview as well.
X-ALT-DESC;FMTTYPE=text/html:Featuring Sue Carlson Designs. Items include: quilts\, runners\, aprons\, placemats and other interesting items. Using vintage\, ethnic nd good looking fabrics.&nbsp\; Holiday Preview as well.
LOCATION:Center Lobby at Baystate Franklin Medical Center 164 High Street\, Greenfield.
UID:e.2182.23728
SEQUENCE:3
DTSTAMP:20260424T070602Z
URL:https://chamber.franklincc.org/events/details/pop-up-sales-at-baystate-fmc-23728
END:VEVENT

END:VCALENDAR
