BEGIN:VCALENDAR
VERSION:2.0
PRODID:-//ChamberMaster//Event Calendar 2.0//EN
METHOD:PUBLISH
X-PUBLISHED-TTL:P3D
REFRESH-INTERVAL:P3D
CALSCALE:GREGORIAN
BEGIN:VEVENT
DTSTART:20231111T220000Z
DTEND:20231112T010000Z
X-MICROSOFT-CDO-ALLDAYEVENT:FALSE
SUMMARY:Pop-Up Dinner at Mycoterra Farm presented by Holyoke Hummus
DESCRIPTION:Join Holyoke Hummus on Saturday\, November 11 at 5 p.m. for a locally sourced dinner at the Mycoterra Farm. Enjoy Chef James' savory fall menu. What to expect Enjoy a drink and some starters and take a tour of the Mycoterra Mushroom Farm. We'll also visit the Mycoterra Kitchen where all the Holyoke Hummus magic happens then sit down to an outdoor dinner in a heated tent. Menu Starters Local Cheese Plate from Grace Hill Farm (V) Blue Oyster and Shiitake Pate on Lemon Crostini - (V ) Entree Your choice of Braised Short Ribs (GF) or Lion's Mane Steak (V\, GF) over Holyoke Hummus (VG\, GF) Rice Pilaf - (V\, GF) Honey-roasted Carrots and Turnips (V\, GF) Maple Pickled Salad from Song Sparrow Farm Dessert Warm Apple Crumble with Vanilla Ice Cream. (V) V- Vegetarian\, VG - Vegan\, GF - Gluten Free Other Stuff 1 Drink is included with your ticket A cash bar will be available w?ww.holyokehummus.com
X-ALT-DESC;FMTTYPE=text/html:Join Holyoke Hummus on Saturday\, November 11 at 5 p.m. for a locally sourced dinner at the Mycoterra Farm. Enjoy Chef James&#39\; savory fall menu. What to expect Enjoy a drink and some starters and take a tour of the Mycoterra Mushroom Farm. We&#39\;ll also visit the Mycoterra Kitchen where all the Holyoke Hummus magic happens then sit down to an outdoor dinner in a heated tent. Menu Starters Local Cheese Plate from Grace Hill Farm (V) Blue Oyster and Shiitake Pate on Lemon Crostini - (V ) Entree Your choice of Braised Short Ribs (GF) or Lion&rsquo\;s Mane Steak (V\, GF) over Holyoke Hummus (VG\, GF) Rice Pilaf - (V\, GF) Honey-roasted Carrots and Turnips (V\, GF) Maple Pickled Salad from Song Sparrow Farm Dessert Warm Apple Crumble with Vanilla Ice Cream. (V) V- Vegetarian\, VG - Vegan\, GF - Gluten Free Other Stuff 1 Drink is included with your ticket A cash bar will be available w?ww.holyokehummus.com
LOCATION:Mycoterra Farm 75 Stillwater Rd South Deerfield\, MA
UID:e.2182.22294
SEQUENCE:3
DTSTAMP:20260424T224015Z
URL:https://chamber.franklincc.org/events/details/pop-up-dinner-at-mycoterra-farm-presented-by-holyoke-hummus-22294
END:VEVENT

END:VCALENDAR
