BEGIN:VCALENDAR
VERSION:2.0
PRODID:-//ChamberMaster//Event Calendar 2.0//EN
METHOD:PUBLISH
X-PUBLISHED-TTL:P3D
REFRESH-INTERVAL:P3D
CALSCALE:GREGORIAN
BEGIN:VEVENT
DTSTART:20250426T230000Z
DTEND:20250427T020000Z
X-MICROSOFT-CDO-ALLDAYEVENT:FALSE
SUMMARY:Poetry and Pie: Brother's Keeper
DESCRIPTION:In a continuation of the vibrant community public art event\, The Florence Poetry Carnival\, special guest artists Brother's Keeper Poetry and Theater Ensemble are the featured literary artists for "Poetry and Pie" evening on April 26th in National Poetry Month. This evening of community art is an activation of small town collaboration between public arts programmer and originator\, Rachel Cyrene Blackman\, the Bombyx Center for Art and Equity and the Florence Pie Bar. Very special guests to start the evening will be the three finalists from the Valley Youth Poetry Slam chosen at their live event at Northampton's Academy of Music on April 5th. Since 2013\, Brother's Keeper Poetry Theater Ensemble has been a beacon of hope and transformation\, weaving together words\, emotions\, and stories to create powerful theatrical performances that resonate deeply with their audiences. The group blends elements of poetry\, spoken word\, theatre and music to create a unique performance which is not only entertaining and educational\, but also soulful.
X-ALT-DESC;FMTTYPE=text/html:In a continuation of the vibrant community public art event\, The Florence Poetry Carnival\, special guest artists Brother&rsquo\;s Keeper Poetry and Theater Ensemble are the featured literary artists for &ldquo\;Poetry and Pie&rdquo\; evening on April 26th in National Poetry Month. This evening of community art is an activation of small town collaboration between public arts programmer and originator\, Rachel Cyrene Blackman\, the Bombyx Center for Art and Equity and the Florence Pie Bar. Very special guests to start the evening will be the three finalists from the Valley Youth Poetry Slam chosen at their live event at Northampton&#39\;s Academy of Music on April 5th. Since 2013\, Brother&#39\;s Keeper Poetry Theater Ensemble has been a beacon of hope and transformation\, weaving together words\, emotions\, and stories to create powerful theatrical performances that resonate deeply with their audiences. The group blends elements of poetry\, spoken word\, theatre and music to create a unique performance which is not only entertaining and educational\, but also soulful.
LOCATION:Bombyx Center for Arts and Equity 130 Pine Street\, Florence\, MA 01062
UID:e.2182.24534
SEQUENCE:3
DTSTAMP:20260423T192924Z
URL:https://chamber.franklincc.org/events/details/poetry-and-pie-brother-s-keeper-24534
END:VEVENT

END:VCALENDAR
