BEGIN:VCALENDAR
VERSION:2.0
PRODID:-//ChamberMaster//Event Calendar 2.0//EN
METHOD:PUBLISH
X-PUBLISHED-TTL:P3D
REFRESH-INTERVAL:P3D
CALSCALE:GREGORIAN
BEGIN:VEVENT
DTSTART:20240803T140000Z
DTEND:20240803T210000Z
X-MICROSOFT-CDO-ALLDAYEVENT:FALSE
SUMMARY:Pocumtuck Homelands Festival: Fish Printing at Unity Park
DESCRIPTION:An Pocumtuck Homelands Festival event.\n\n\n\nVisit the Northfield Mountain and Great Falls Discovery Center tent to make your own vibrantly colored fish print to take home. All materials provided. For more information on the entire event visit nolumbekaproject.org/events.
X-ALT-DESC;FMTTYPE=text/html:An&nbsp\;Pocumtuck Homelands Festival event.<br />\n<br />\nVisit the Northfield Mountain and Great Falls Discovery Center tent to make your own vibrantly colored fish print to take home. All materials provided. For more information on the entire event visit <a href="http://www.nolumbekaproject.org/events" target="_blank">nolumbekaproject.org/events</a>.&nbsp\;<br />\n
LOCATION:Unity Park is located at 56 First Street\, Turners Falls
UID:e.2182.23303
SEQUENCE:3
DTSTAMP:20260424T091719Z
URL:https://chamber.franklincc.org/events/details/pocumtuck-homelands-festival-fish-printing-at-unity-park-23303
END:VEVENT

END:VCALENDAR
