BEGIN:VCALENDAR
VERSION:2.0
PRODID:-//ChamberMaster//Event Calendar 2.0//EN
METHOD:PUBLISH
X-PUBLISHED-TTL:P3D
REFRESH-INTERVAL:P3D
CALSCALE:GREGORIAN
BEGIN:VEVENT
DTSTART:20230806T140000Z
DTEND:20230807T210000Z
X-MICROSOFT-CDO-ALLDAYEVENT:FALSE
SUMMARY:Pocumtuck Homelands Festival
DESCRIPTION:This celebration of primarily Northeastern tribal cultures takes place on land that was Pocumtuck land for thousands of years.\n\nIt takes place in the region near Great Falls where tribes from all over the northeast gathered annually.\n\nThere will be guest speakers\, musicians\, children's activities\, Indigenous vendors\, Eastern Woodlands skills demonstrations\, history presentations\, and more.\n\nThis is not a traditional powwow but many favorite aspects are featured. The programming appeals to all ages and backgrounds.\n\nFree\, accessible. 10 a.m.   7 p.m. Saturday\, 10 a.m.   5 p.m. Sunday.\n\nNative American vendors can request a registration form at nolumbekaproject@gmail.com. Registration required.
X-ALT-DESC;FMTTYPE=text/html:<p style="box-sizing: border-box\; margin-top: var(--bs-gutter-y)\; margin-bottom: 1rem\; flex-shrink: 0\; width: 973.333px\; max-width: 100%\; padding-right: calc(var(--bs-gutter-x) * .5)\; padding-left: calc(var(--bs-gutter-x) * .5)\; color: rgb(33\, 37\, 41)\; font-family: system-ui\, -apple-system\, &quot\;Segoe UI&quot\;\, Roboto\, &quot\;Helvetica Neue&quot\;\, Arial\, &quot\;Noto Sans&quot\;\, &quot\;Liberation Sans&quot\;\, sans-serif\, &quot\;Apple Color Emoji&quot\;\, &quot\;Segoe UI Emoji&quot\;\, &quot\;Segoe UI Symbol&quot\;\, &quot\;Noto Color Emoji&quot\;\; font-size: 1.2em !important\;">This celebration of primarily Northeastern tribal cultures takes place on land that was Pocumtuck land for thousands of years.</p>\n\n<p style="box-sizing: border-box\; margin-top: var(--bs-gutter-y)\; margin-bottom: 1rem\; flex-shrink: 0\; width: 973.333px\; max-width: 100%\; padding-right: calc(var(--bs-gutter-x) * .5)\; padding-left: calc(var(--bs-gutter-x) * .5)\; color: rgb(33\, 37\, 41)\; font-family: system-ui\, -apple-system\, &quot\;Segoe UI&quot\;\, Roboto\, &quot\;Helvetica Neue&quot\;\, Arial\, &quot\;Noto Sans&quot\;\, &quot\;Liberation Sans&quot\;\, sans-serif\, &quot\;Apple Color Emoji&quot\;\, &quot\;Segoe UI Emoji&quot\;\, &quot\;Segoe UI Symbol&quot\;\, &quot\;Noto Color Emoji&quot\;\; font-size: 1.2em !important\;">It takes place in the region near Great Falls where tribes from all over the northeast gathered annually.</p>\n\n<p style="box-sizing: border-box\; margin-top: var(--bs-gutter-y)\; margin-bottom: 1rem\; flex-shrink: 0\; width: 973.333px\; max-width: 100%\; padding-right: calc(var(--bs-gutter-x) * .5)\; padding-left: calc(var(--bs-gutter-x) * .5)\; color: rgb(33\, 37\, 41)\; font-family: system-ui\, -apple-system\, &quot\;Segoe UI&quot\;\, Roboto\, &quot\;Helvetica Neue&quot\;\, Arial\, &quot\;Noto Sans&quot\;\, &quot\;Liberation Sans&quot\;\, sans-serif\, &quot\;Apple Color Emoji&quot\;\, &quot\;Segoe UI Emoji&quot\;\, &quot\;Segoe UI Symbol&quot\;\, &quot\;Noto Color Emoji&quot\;\; font-size: 1.2em !important\;">There will be guest speakers\, musicians\, children&rsquo\;s activities\, Indigenous vendors\, Eastern Woodlands skills demonstrations\, history presentations\, and more.</p>\n\n<p style="box-sizing: border-box\; margin-top: var(--bs-gutter-y)\; margin-bottom: 1rem\; flex-shrink: 0\; width: 973.333px\; max-width: 100%\; padding-right: calc(var(--bs-gutter-x) * .5)\; padding-left: calc(var(--bs-gutter-x) * .5)\; color: rgb(33\, 37\, 41)\; font-family: system-ui\, -apple-system\, &quot\;Segoe UI&quot\;\, Roboto\, &quot\;Helvetica Neue&quot\;\, Arial\, &quot\;Noto Sans&quot\;\, &quot\;Liberation Sans&quot\;\, sans-serif\, &quot\;Apple Color Emoji&quot\;\, &quot\;Segoe UI Emoji&quot\;\, &quot\;Segoe UI Symbol&quot\;\, &quot\;Noto Color Emoji&quot\;\; font-size: 1.2em !important\;">This is not a traditional powwow but many favorite aspects are featured. The programming appeals to all ages and backgrounds.</p>\n\n<p style="box-sizing: border-box\; margin-top: var(--bs-gutter-y)\; margin-bottom: 1rem\; flex-shrink: 0\; width: 973.333px\; max-width: 100%\; padding-right: calc(var(--bs-gutter-x) * .5)\; padding-left: calc(var(--bs-gutter-x) * .5)\; color: rgb(33\, 37\, 41)\; font-family: system-ui\, -apple-system\, &quot\;Segoe UI&quot\;\, Roboto\, &quot\;Helvetica Neue&quot\;\, Arial\, &quot\;Noto Sans&quot\;\, &quot\;Liberation Sans&quot\;\, sans-serif\, &quot\;Apple Color Emoji&quot\;\, &quot\;Segoe UI Emoji&quot\;\, &quot\;Segoe UI Symbol&quot\;\, &quot\;Noto Color Emoji&quot\;\; font-size: 1.2em !important\;">Free\, accessible. 10 a.m. &ndash\; 7 p.m. Saturday\, 10 a.m. &ndash\; 5 p.m. Sunday.</p>\n\n<p style="box-sizing: border-box\; margin-top: var(--bs-gutter-y)\; margin-bottom: 1rem\; flex-shrink: 0\; width: 973.333px\; max-width: 100%\; padding-right: calc(var(--bs-gutter-x) * .5)\; padding-left: calc(var(--bs-gutter-x) * .5)\; color: rgb(33\, 37\, 41)\; font-family: system-ui\, -apple-system\, &quot\;Segoe UI&quot\;\, Roboto\, &quot\;Helvetica Neue&quot\;\, Arial\, &quot\;Noto Sans&quot\;\, &quot\;Liberation Sans&quot\;\, sans-serif\, &quot\;Apple Color Emoji&quot\;\, &quot\;Segoe UI Emoji&quot\;\, &quot\;Segoe UI Symbol&quot\;\, &quot\;Noto Color Emoji&quot\;\; font-size: 1.2em !important\;">Native American vendors can request a registration form at&nbsp\;<a class="ms-outlook-linkify" href="mailto:nolumbekaproject@gmail.com" style="box-sizing: border-box\; color: rgb(13\, 110\, 253)\; outline: 0px !important\;">nolumbekaproject@gmail.com</a>. Registration required.</p>\n
LOCATION:Unity Park - First Street\, Turners Falls\, MA
UID:e.2182.20243
SEQUENCE:3
DTSTAMP:20260425T023538Z
URL:https://chamber.franklincc.org/events/details/pocumtuck-homelands-festival-08-06-2023-20243
END:VEVENT

END:VCALENDAR
