BEGIN:VCALENDAR
VERSION:2.0
PRODID:-//ChamberMaster//Event Calendar 2.0//EN
METHOD:PUBLISH
X-PUBLISHED-TTL:P3D
REFRESH-INTERVAL:P3D
CALSCALE:GREGORIAN
BEGIN:VEVENT
DTSTART:20210221T000000Z
DTEND:20210221T013000Z
X-MICROSOFT-CDO-ALLDAYEVENT:FALSE
SUMMARY:Pioneer Valley Symphony p "life is a Dream"
DESCRIPTION:Lewis Spratlan\, Professor Emeritus at Amherst College\, has had a long and storied career\, including winning the Pulitzer Prize in 2000 for an opera he completed in 1978. \n\n\n\nJoin us as we revisit Spratlan's extraordinary journey as composer and reflect on his life and legacy. This event comes at the 80th anniversary of Spratlan's birth and the 10th anniversary of the world premiere of his oeuvre\, 'Life is a Dream\,' by The Santa Fe Opera. The program will feature a retrospective on Spratlan's works and career\,
X-ALT-DESC;FMTTYPE=text/html:Lewis Spratlan\, Professor Emeritus at Amherst College\, has had a long and storied career\, including winning the Pulitzer Prize in 2000 for an opera he completed in 1978.&nbsp\;<br />\n<br />\nJoin us as we revisit Spratlan&#39\;s extraordinary journey as composer and reflect on his life and legacy. This event comes at the 80th anniversary of Spratlan&rsquo\;s birth and the 10th anniversary of the world premiere of his oeuvre\, &#39\;Life is a Dream\,&#39\; by The Santa Fe Opera. The program will feature a retrospective on Spratlan&#39\;s works and career\,
LOCATION:
UID:e.2182.17835
SEQUENCE:3
DTSTAMP:20260421T230602Z
URL:https://chamber.franklincc.org/events/details/pioneer-valley-symphony-p-life-is-a-dream-17835
END:VEVENT

END:VCALENDAR
