BEGIN:VCALENDAR
VERSION:2.0
PRODID:-//ChamberMaster//Event Calendar 2.0//EN
METHOD:PUBLISH
X-PUBLISHED-TTL:P3D
REFRESH-INTERVAL:P3D
CALSCALE:GREGORIAN
BEGIN:VEVENT
DTSTART:20250406T150000Z
DTEND:20250406T160000Z
X-MICROSOFT-CDO-ALLDAYEVENT:FALSE
SUMMARY:Pioneer Valley Jewish Film Festival | WELCOME TO YIDDISHLAND
DESCRIPTION:This captivating documentary offers an upbeat\, witty\, and timely exploration of a global community of artists who are rediscovering and revitalizing the endangered Yiddish language through their progressive and provocative creative works. Together\, as we travel through Yiddishland   not a homeland but a heartland without borders   we journey across continents\, from Melbourne to Berlin\, New York to Haifa to meet the diverse array of individuals who find solace\, identity\, and inspiration within Yiddish language and culture. Post-screening discussion with Lisa Newman\, Director of Publishing and Public Programs\, and Caleb Sher\, Senior Bibliography Fellow\, at the Yiddish Book Center.
X-ALT-DESC;FMTTYPE=text/html:This captivating documentary offers an upbeat\, witty\, and timely exploration of a global community of artists who are rediscovering and revitalizing the endangered Yiddish language through their progressive and provocative creative works. Together\, as we travel through Yiddishland &ndash\; not a homeland but a heartland without borders &ndash\; we journey across continents\, from Melbourne to Berlin\, New York to Haifa to meet the diverse array of individuals who find solace\, identity\, and inspiration within Yiddish language and culture. Post-screening discussion with Lisa Newman\, Director of Publishing and Public Programs\, and Caleb Sher\, Senior Bibliography Fellow\, at the Yiddish Book Center.
LOCATION:Yiddish Book Center 1021 West Street Amherst\, MA 01002 USA
UID:e.2182.24467
SEQUENCE:3
DTSTAMP:20260423T193533Z
URL:https://chamber.franklincc.org/events/details/pioneer-valley-jewish-film-festival-welcome-to-yiddishland-24467
END:VEVENT

END:VCALENDAR
