BEGIN:VCALENDAR
VERSION:2.0
PRODID:-//ChamberMaster//Event Calendar 2.0//EN
METHOD:PUBLISH
X-PUBLISHED-TTL:P3D
REFRESH-INTERVAL:P3D
CALSCALE:GREGORIAN
BEGIN:VEVENT
DTSTART:20250405T234500Z
DTEND:20250406T004500Z
X-MICROSOFT-CDO-ALLDAYEVENT:FALSE
SUMMARY:Pioneer Valley Jewish Film Festival | THE PROPERTY
DESCRIPTION:Fiercely proud Regina (veteran Israeli comic actress Rivka Michaeli) and her granddaughter Mika (Sharon Strimban) embark on a journey from Israel to Warsaw's wintry streets to reclaim property seized during World War II. What begins as a quest to reclaim a family flat becomes a deep journey of self-discovery and reconciliation. Dana Modan's touching adaptation of her sister Rutu Modan's award-winning graphic novel is nominated for four Israeli Academy Awards\, including Best Actor\, Best Actress\, and Best Screenplay.
X-ALT-DESC;FMTTYPE=text/html:Fiercely proud Regina (veteran Israeli comic actress Rivka Michaeli) and her granddaughter Mika (Sharon Strimban) embark on a journey from Israel to Warsaw&rsquo\;s wintry streets to reclaim property seized during World War II. What begins as a quest to reclaim a family flat becomes a deep journey of self-discovery and reconciliation. Dana Modan&rsquo\;s touching adaptation of her sister Rutu Modan&rsquo\;s award-winning graphic novel is nominated for four Israeli Academy Awards\, including Best Actor\, Best Actress\, and Best Screenplay.
LOCATION:Springfield JCC 1160 Dickinson Street Springfield\, MA 01108 USA
UID:e.2182.24466
SEQUENCE:3
DTSTAMP:20260423T180831Z
URL:https://chamber.franklincc.org/events/details/pioneer-valley-jewish-film-festival-the-property-24466
END:VEVENT

END:VCALENDAR
