BEGIN:VCALENDAR
VERSION:2.0
PRODID:-//ChamberMaster//Event Calendar 2.0//EN
METHOD:PUBLISH
X-PUBLISHED-TTL:P3D
REFRESH-INTERVAL:P3D
CALSCALE:GREGORIAN
BEGIN:VEVENT
DTSTART:20250406T180000Z
DTEND:20250406T190000Z
X-MICROSOFT-CDO-ALLDAYEVENT:FALSE
SUMMARY:Pioneer Valley Jewish Film Festival | THE GLORY OF LIFE
DESCRIPTION:Set against the picturesque Baltic Sea coast in 1923\, this tender drama captures Franz Kafka's final year\, transformed by the redemptive power of love. The fragile writer\, battling tuberculosis and an overbearing family\, finds an unforeseen connection with Dora Diamant\, a spirited young woman working at a Jewish community center. Their romance blooms into a profound partnership\, carrying them through Berlin to an Austrian sanatorium where Kafka confronts his mortality with newfound peace.
X-ALT-DESC;FMTTYPE=text/html:Set against the picturesque Baltic Sea coast in 1923\, this tender drama captures Franz Kafka&rsquo\;s final year\, transformed by the redemptive power of love. The fragile writer\, battling tuberculosis and an overbearing family\, finds an unforeseen connection with Dora Diamant\, a spirited young woman working at a Jewish community center. Their romance blooms into a profound partnership\, carrying them through Berlin to an Austrian sanatorium where Kafka confronts his mortality with newfound peace.
LOCATION:Yiddish Book Center 1021 West Street Amherst\, MA 01002 USA
UID:e.2182.24468
SEQUENCE:3
DTSTAMP:20260423T194250Z
URL:https://chamber.franklincc.org/events/details/pioneer-valley-jewish-film-festival-the-glory-of-life-24468
END:VEVENT

END:VCALENDAR
