BEGIN:VCALENDAR
VERSION:2.0
PRODID:-//ChamberMaster//Event Calendar 2.0//EN
METHOD:PUBLISH
X-PUBLISHED-TTL:P3D
REFRESH-INTERVAL:P3D
CALSCALE:GREGORIAN
BEGIN:VEVENT
DTSTART:20250408T230000Z
DTEND:20250409T000000Z
X-MICROSOFT-CDO-ALLDAYEVENT:FALSE
SUMMARY:Pioneer Valley Jewish Film Festival | THE BLOND BOY FROM THE CASBAH
DESCRIPTION:Passionate filmmaker Antoine travels to his birthplace\, Algiers\, with his young son to present his new film: an account of his childhood in 1960s Algeria during the country's civil war. As he wanders through the city\, the filmmaker immerses us in the moments of laughter and tears of his childhood   spent between school\, friends\, and his Sephardic Jewish family. Growing up in the final moments of Algeria's pre-independence period\, the young Antoine discovers his profound fascination with cinema and starts to understand who he truly is. A joyful and nostalgic love letter to the Algiers of prolific French filmmaker Alexandre Arcady's youth\, this enchanting semi-autobiographical drama won Best Film at the UK Jewish Film Festival. Post-screening discussion with Dr. Simon Sibelman\, Professor Emeritus\, French and Holocaust Studies\, University of Wisconsin Oshkosh.
X-ALT-DESC;FMTTYPE=text/html:Passionate filmmaker Antoine travels to his birthplace\, Algiers\, with his young son to present his new film: an account of his childhood in 1960s Algeria during the country&rsquo\;s civil war. As he wanders through the city\, the filmmaker immerses us in the moments of laughter and tears of his childhood &ndash\; spent between school\, friends\, and his Sephardic Jewish family. Growing up in the final moments of Algeria&rsquo\;s pre-independence period\, the young Antoine discovers his profound fascination with cinema and starts to understand who he truly is. A joyful and nostalgic love letter to the Algiers of prolific French filmmaker Alexandre Arcady&rsquo\;s youth\, this enchanting semi-autobiographical drama won Best Film at the UK Jewish Film Festival. Post-screening discussion with Dr. Simon Sibelman\, Professor Emeritus\, French and Holocaust Studies\, University of Wisconsin Oshkosh.
LOCATION:Amherst Cinema 28 Amity Street Amherst\, MA 01002 USA
UID:e.2182.24472
SEQUENCE:3
DTSTAMP:20260423T212017Z
URL:https://chamber.franklincc.org/events/details/pioneer-valley-jewish-film-festival-the-blond-boy-from-the-casbah-24472
END:VEVENT

END:VCALENDAR
