BEGIN:VCALENDAR
VERSION:2.0
PRODID:-//ChamberMaster//Event Calendar 2.0//EN
METHOD:PUBLISH
X-PUBLISHED-TTL:P3D
REFRESH-INTERVAL:P3D
CALSCALE:GREGORIAN
BEGIN:VEVENT
DTSTART:20250408T180000Z
DTEND:20250408T190000Z
X-MICROSOFT-CDO-ALLDAYEVENT:FALSE
SUMMARY:Pioneer Valley Jewish Film Festival | MOSES EZEKIEL: PORTRAIT OF A LOST ARTIST
DESCRIPTION:Moses Ezekiel (1844-1917) was a world-famous American sculptor\, who had been born and raised in a large Jewish family in Richmond\, VA. Before becoming an artist\, he was the first Jewish cadet to be enrolled at the Virginia Military Institute and was among a class of cadets who fought for the Confederacy in the 1864 Battle of New Market during the U.S. Civil War. This documentary tells Ezekiel's story\, while also focusing on the modern-day debate over the presence of Confederate monuments in the U.S.\, including those made by Ezekiel. From the award-winning director of 50 CHILDREN and THE LEVYS OF MONTICELLO. Ticket purchase includes entry to the D'Amour Museum of Fine Arts. Stay after the screening and enjoy the galleries!
X-ALT-DESC;FMTTYPE=text/html:Moses Ezekiel (1844-1917) was a world-famous American sculptor\, who had been born and raised in a large Jewish family in Richmond\, VA. Before becoming an artist\, he was the first Jewish cadet to be enrolled at the Virginia Military Institute and was among a class of cadets who fought for the Confederacy in the 1864 Battle of New Market during the U.S. Civil War. This documentary tells Ezekiel&#39\;s story\, while also focusing on the modern-day debate over the presence of Confederate monuments in the U.S.\, including those made by Ezekiel. From the award-winning director of 50 CHILDREN and THE LEVYS OF MONTICELLO. Ticket purchase includes entry to the D&#39\;Amour Museum of Fine Arts. Stay after the screening and enjoy the galleries!
LOCATION:Springfield Museums 21 Edwards Street Springfield\, MA 01103 USA
UID:e.2182.24471
SEQUENCE:3
DTSTAMP:20260423T212017Z
URL:https://chamber.franklincc.org/events/details/pioneer-valley-jewish-film-festival-moses-ezekiel-portrait-of-a-lost-artist-24471
END:VEVENT

END:VCALENDAR
