BEGIN:VCALENDAR
VERSION:2.0
PRODID:-//ChamberMaster//Event Calendar 2.0//EN
METHOD:PUBLISH
X-PUBLISHED-TTL:P3D
REFRESH-INTERVAL:P3D
CALSCALE:GREGORIAN
BEGIN:VEVENT
DTSTART:20250403T230000Z
DTEND:20250404T000000Z
X-MICROSOFT-CDO-ALLDAYEVENT:FALSE
SUMMARY:Pioneer Valley Jewish Film Festival | MIDAS MAN
DESCRIPTION:Set against the kaleidoscopic backdrop of Swinging Sixties London\, this stylish biopic explores the genius and demons of the trailblazing Jewish manager hailed as the "fifth Beatle." Brian Epstein's visionary efforts catapulted The Beatles from a scrappy Liverpool band into the biggest music phenomenon that defined a generation. This captivating film chronicles Epstein's unyielding belief in The Beatles' potential\, and the personal toll he paid as he sacrificed everything to elevate his artists to the pinnacle of fame. Jacob Fortune-Lloyd (THE QUEEN'S GAMBIT) stars in the lead role\, alongside Eddie Marsan and Emily Watson. Please join us at 6:30 PM before the film for a festive Opening Night reception.
X-ALT-DESC;FMTTYPE=text/html:Set against the kaleidoscopic backdrop of Swinging Sixties London\, this stylish biopic explores the genius and demons of the trailblazing Jewish manager hailed as the &ldquo\;fifth Beatle.&rdquo\; Brian Epstein&rsquo\;s visionary efforts catapulted The Beatles from a scrappy Liverpool band into the biggest music phenomenon that defined a generation. This captivating film chronicles Epstein&rsquo\;s unyielding belief in The Beatles&#39\; potential\, and the personal toll he paid as he sacrificed everything to elevate his artists to the pinnacle of fame. Jacob Fortune-Lloyd (THE QUEEN&#39\;S GAMBIT) stars in the lead role\, alongside Eddie Marsan and Emily Watson. Please join us at 6:30 PM before the film for a festive Opening Night reception.
LOCATION:Yiddish Book Center 1021 West Street Amherst\, MA 01002 USA
UID:e.2182.24464
SEQUENCE:3
DTSTAMP:20260423T194041Z
URL:https://chamber.franklincc.org/events/details/pioneer-valley-jewish-film-festival-midas-man-24464
END:VEVENT

END:VCALENDAR
