BEGIN:VCALENDAR
VERSION:2.0
PRODID:-//ChamberMaster//Event Calendar 2.0//EN
METHOD:PUBLISH
X-PUBLISHED-TTL:P3D
REFRESH-INTERVAL:P3D
CALSCALE:GREGORIAN
BEGIN:VEVENT
DTSTART:20190406T233000Z
DTEND:20190407T023000Z
X-MICROSOFT-CDO-ALLDAYEVENT:FALSE
SUMMARY:Pioneer Valley Jewish Film Festival: "Left Luggage"
DESCRIPTION:Set in 1970s Belgium\, Left Luggage tells the story of Chaya\, the 20-year-old daughter of Holocaust survivors who studies philosophy and supports herself by doing odd jobs in Antwerp. When Chaya takes a job as a nanny for a Hasidic family\, her developing relationship with the devout mother forces her to reevaluate the Jewish faith. This clear-eyed look at Hasidism and its relationship with Judaism as a whole stars Isabella Rossellini and Topol\, and was the winner of three awards at the Berlin International Film Festival.
X-ALT-DESC;FMTTYPE=text/html:Set in 1970s Belgium\, Left Luggage tells the story of Chaya\, the 20-year-old daughter of Holocaust survivors who studies philosophy and supports herself by doing odd jobs in Antwerp. When Chaya takes a job as a nanny for a Hasidic family\, her developing relationship with the devout mother forces her to reevaluate the Jewish faith. This clear-eyed look at Hasidism and its relationship with Judaism as a whole stars Isabella Rossellini and Topol\, and was the winner of three awards at the Berlin International Film Festival.
LOCATION:Pothole Pictures Memorial Hall\, 51 Bridge Street\, Shelburne Falls
UID:e.2182.14779
SEQUENCE:3
DTSTAMP:20260423T130410Z
URL:https://chamber.franklincc.org/events/details/pioneer-valley-jewish-film-festival-left-luggage-14779
END:VEVENT

END:VCALENDAR
