BEGIN:VCALENDAR
VERSION:2.0
PRODID:-//ChamberMaster//Event Calendar 2.0//EN
METHOD:PUBLISH
X-PUBLISHED-TTL:P3D
REFRESH-INTERVAL:P3D
CALSCALE:GREGORIAN
BEGIN:VEVENT
DTSTART:20250407T230000Z
DTEND:20250408T000000Z
X-MICROSOFT-CDO-ALLDAYEVENT:FALSE
SUMMARY:Pioneer Valley Jewish Film Festival | ELIE WIESEL: SOUL ON FIRE
DESCRIPTION:This essential documentary offers an intimate and unprecedented look into the life and legacy of writer\, political activist\, Nobel laureate\, and Holocaust survivor Elie Wiesel. With exclusive access to Wiesel's family and personal archives\, the film delves into the passions\, struggles\, and enduring impact of a man who became a powerful voice for human rights. It also explores the driving forces behind Wiesel's relentless advocacy\, the dilemmas he faced\, and the relevance of his teachings today\, as the memory of the Holocaust is fading.
X-ALT-DESC;FMTTYPE=text/html:This essential documentary offers an intimate and unprecedented look into the life and legacy of writer\, political activist\, Nobel laureate\, and Holocaust survivor Elie Wiesel. With exclusive access to Wiesel&rsquo\;s family and personal archives\, the film delves into the passions\, struggles\, and enduring impact of a man who became a powerful voice for human rights. It also explores the driving forces behind Wiesel&#39\;s relentless advocacy\, the dilemmas he faced\, and the relevance of his teachings today\, as the memory of the Holocaust is fading.
LOCATION:Basketball Hall of Fame 1000 Hall of Fame Avenue Springfield\, MA 01105 USA
UID:e.2182.24470
SEQUENCE:3
DTSTAMP:20260423T193533Z
URL:https://chamber.franklincc.org/events/details/pioneer-valley-jewish-film-festival-elie-wiesel-soul-on-fire-24470
END:VEVENT

END:VCALENDAR
