BEGIN:VCALENDAR
VERSION:2.0
PRODID:-//ChamberMaster//Event Calendar 2.0//EN
METHOD:PUBLISH
X-PUBLISHED-TTL:P3D
REFRESH-INTERVAL:P3D
CALSCALE:GREGORIAN
BEGIN:VEVENT
DTSTART:20250406T223000Z
DTEND:20250406T233000Z
X-MICROSOFT-CDO-ALLDAYEVENT:FALSE
SUMMARY:Pioneer Valley Jewish Film Festival | BAD SHABBOS
DESCRIPTION:A Shabbat dinner goes terribly wrong in this fast-paced\, ensemble comedy. David and Meg - an engaged interfaith couple - plan to introduce the bride's Catholic parents from Wisconsin to the groom's Jewish family at a Shabbat family dinner in Manhattan. That is\, until an accidental dead body gets in the way of introductions! The star-studded cast includes Kyra Sedgwick and David Paymer\, as well as a sensational comic performance by rapper Method Man. Winner of the 2024 Tribeca Film Festival Audience Award.
X-ALT-DESC;FMTTYPE=text/html:A Shabbat dinner goes terribly wrong in this fast-paced\, ensemble comedy. David and Meg - an engaged interfaith couple - plan to introduce the bride&rsquo\;s Catholic parents from Wisconsin to the groom&rsquo\;s Jewish family at a Shabbat family dinner in Manhattan. That is\, until an accidental dead body gets in the way of introductions! The star-studded cast includes Kyra Sedgwick and David Paymer\, as well as a sensational comic performance by rapper Method Man. Winner of the 2024 Tribeca Film Festival Audience Award.
LOCATION:Greenfield Garden Cinemas 361 Main Street Greenfield\, MA 01301 USA
UID:e.2182.24469
SEQUENCE:3
DTSTAMP:20260423T193533Z
URL:https://chamber.franklincc.org/events/details/pioneer-valley-jewish-film-festival-bad-shabbos-24469
END:VEVENT

END:VCALENDAR
