BEGIN:VCALENDAR
VERSION:2.0
PRODID:-//ChamberMaster//Event Calendar 2.0//EN
METHOD:PUBLISH
X-PUBLISHED-TTL:P3D
REFRESH-INTERVAL:P3D
CALSCALE:GREGORIAN
BEGIN:VEVENT
DTSTART;VALUE=DATE:20240404
DTEND;VALUE=DATE:20240405
TRANSP:TRANSPARENT
X-MICROSOFT-CDO-ALLDAYEVENT:TRUE
SUMMARY:Pioneer Valley Jewish Film Festival
DESCRIPTION:Travel the world through film! Presented by the Springfield JCC and now in its 18th year\, the Pioneer Valley Jewish Film Festival proudly continues its tradition of showcasing award-winning films from around the globe. PVJFF presents critically acclaimed films that not only entertain\, but also provide opportunities for reflection\, discussion\, and a deeper understanding of our complex\, diverse world. Join us for a multifaceted cinematic exploration of Jewish identity\, community\, and history.
X-ALT-DESC;FMTTYPE=text/html:Travel the world through film! Presented by the Springfield JCC and now in its 18th year\, the Pioneer Valley Jewish Film Festival proudly continues its tradition of showcasing award-winning films from around the globe. PVJFF presents critically acclaimed films that not only entertain\, but also provide opportunities for reflection\, discussion\, and a deeper understanding of our complex\, diverse world. Join us for a multifaceted cinematic exploration of Jewish identity\, community\, and history.
LOCATION:
UID:e.2182.22894
SEQUENCE:3
DTSTAMP:20260421T011642Z
URL:https://chamber.franklincc.org/events/details/pioneer-valley-jewish-film-festival-22894
END:VEVENT

END:VCALENDAR
