BEGIN:VCALENDAR
VERSION:2.0
PRODID:-//ChamberMaster//Event Calendar 2.0//EN
METHOD:PUBLISH
X-PUBLISHED-TTL:P3D
REFRESH-INTERVAL:P3D
CALSCALE:GREGORIAN
BEGIN:VEVENT
DTSTART:20200731T000000Z
DTEND:20200731T013000Z
X-MICROSOFT-CDO-ALLDAYEVENT:FALSE
SUMMARY:Performing "Under the Stars"
DESCRIPTION:Eggtooth Productions & Jack Golden Productions presents a theatrical production. "Under the Stars\," will be preformed by Jack Golden\, an area movement artist and the show's creator\, is a tale that "captures the struggles and possibilities of our unusual times through a triptych of unlikely stories: epic\, improvisational and comic. This performance is set\, as the title suggests\,in the fresh evening air\, reminiscent of drive-in theaters.\n\nUnder the Stars is a tale of three journeys. It captures the struggles and possibilities of our unusual times through a triptych of unlikely stories: epic\, improvisational\, and comic. Created by Jack Golden and produced by Eggtooth Productions\, this performance is set\, as the title suggests\, in the fresh evening air\, reminiscent of drive in theaters of days gone by\, except the show is live. Audience members remain in their cars\, provide stage lighting with their headlights\, and watch this 25 minute one man show from behind the safety of their windshields.\n\n\n\nJack Golden starts with "Just in Case"\, the story of an archetypal journey told by a lost traveler and inspired by the prologue from Dante's Inferno.\n\n\n\nFrom there he drops his script and opens his mind to whatever comes to him in the moment. This improvisation is impossible to describe ahead of time\, but it's sure to be a delightful surprise for all\, including Jack. "The Big Sweep" is the final piece\, a shadow play filled with hilarious banter and acted out by a troupe of cleaning closet characters.\n\n\n\nWhere else can you get Shakespearean drama\, celestial guidance\, and bathroom humor kicking it together on the same stage?
X-ALT-DESC;FMTTYPE=text/html:Eggtooth Productions &amp\; Jack Golden Productions presents a theatrical production. &quot\;Under the Stars\,&quot\; will be preformed by Jack Golden\, an area movement artist and the show&#39\;s creator\, is a tale that &quot\;captures the struggles and possibilities of our unusual times through a triptych of unlikely stories: epic\, improvisational and comic. This performance is set\, as the title suggests\,in the fresh evening air\, reminiscent of drive-in theaters.<br />\nUnder the Stars is a tale of three journeys. It captures the struggles and possibilities of our unusual times through a triptych of unlikely stories: epic\, improvisational\, and comic. Created by Jack Golden and produced by Eggtooth Productions\, this performance is set\, as the title suggests\, in the fresh evening air\, reminiscent of drive in theaters of days gone by\, except the show is live. Audience members remain in their cars\, provide stage lighting with their headlights\, and watch this 25 minute one man show from behind the safety of their windshields.<br />\n<br />\nJack Golden starts with &ldquo\;Just in Case&rdquo\;\, the story of an archetypal journey told by a lost traveler and inspired by the prologue from Dante&rsquo\;s Inferno.<br />\n<br />\nFrom there he drops his script and opens his mind to whatever comes to him in the moment. This improvisation is impossible to describe ahead of time\, but it&rsquo\;s sure to be a delightful surprise for all\, including Jack. &ldquo\;The Big Sweep&rdquo\; is the final piece\, a shadow play filled with hilarious banter and acted out by a troupe of cleaning closet characters.<br />\n<br />\nWhere else can you get Shakespearean drama\, celestial guidance\, and bathroom humor kicking it together on the same stage?
LOCATION:Greenfield Parking Garage Olive Street\, Greenfield
UID:e.2182.17637
SEQUENCE:3
DTSTAMP:20260420T192945Z
URL:https://chamber.franklincc.org/events/details/performing-under-the-stars-17637
END:VEVENT

END:VCALENDAR
