BEGIN:VCALENDAR
VERSION:2.0
PRODID:-//ChamberMaster//Event Calendar 2.0//EN
METHOD:PUBLISH
X-PUBLISHED-TTL:P3D
REFRESH-INTERVAL:P3D
CALSCALE:GREGORIAN
BEGIN:VEVENT
DTSTART:20201121T150000Z
DTEND:20201121T180000Z
X-MICROSOFT-CDO-ALLDAYEVENT:FALSE
SUMMARY:Outdoor Autumn Market
DESCRIPTION:Shelburne Falls Farmers Market presents our annual Autumn Market\, outside on the green where the summer market is held. Come and see our regular vendors as well as many more.
X-ALT-DESC;FMTTYPE=text/html:Shelburne Falls Farmers Market presents our annual Autumn Market\, outside on the green where the summer market is held. Come and see our regular vendors as well as many more.
LOCATION:Corner of 53 Main Street & Water Street\, Shelburne Fallls
UID:e.2182.17713
SEQUENCE:3
DTSTAMP:20260420T202013Z
URL:https://chamber.franklincc.org/events/details/outdoor-autumn-market-17713
END:VEVENT

END:VCALENDAR
