BEGIN:VCALENDAR
VERSION:2.0
PRODID:-//ChamberMaster//Event Calendar 2.0//EN
METHOD:PUBLISH
X-PUBLISHED-TTL:P3D
REFRESH-INTERVAL:P3D
CALSCALE:GREGORIAN
BEGIN:VEVENT
DTSTART:20230916T140000Z
DTEND:20230916T180000Z
X-MICROSOFT-CDO-ALLDAYEVENT:FALSE
SUMMARY:Open House: 18th & 19th Century Fibers
DESCRIPTION:Learn about natural fiber fabrics used in the museum's 18th and 19th century collection of clothing\, quilts and linens. Hands-on experience with microscopes\, weaving looms\, felting techniques and quilt block construction. A tour of Browning Bench Farm is also available.
X-ALT-DESC;FMTTYPE=text/html:Learn about natural fiber fabrics used in the museum&#39\;s 18th and 19th century collection of clothing\, quilts and linens. Hands-on experience with microscopes\, weaving looms\, felting techniques and quilt block construction. A tour of Browning Bench Farm is also available.
LOCATION:Rowe Historical Society's Kemp-McCarthy Museum 282 Zoar Road\, Rowe
UID:e.2182.20357
SEQUENCE:3
DTSTAMP:20260425T012418Z
URL:https://chamber.franklincc.org/events/details/open-house-18th-19th-century-fibers-09-16-2023-20357
END:VEVENT

END:VCALENDAR
