BEGIN:VCALENDAR
VERSION:2.0
PRODID:-//ChamberMaster//Event Calendar 2.0//EN
METHOD:PUBLISH
X-PUBLISHED-TTL:P3D
REFRESH-INTERVAL:P3D
CALSCALE:GREGORIAN
BEGIN:VEVENT
DTSTART:20230715T133000Z
DTEND:20230715T200000Z
X-MICROSOFT-CDO-ALLDAYEVENT:FALSE
SUMMARY:Open Hearth Cooking Demonstrations: Sweet and Sour: Pickles\, Preserves\, and Refreshing Summer Foods
DESCRIPTION:Pickles. Lemonade. Switchel. Berry Preserves. Weather permitting\, our hearth cooks will light a small fire and make pickles or preserves using fresh seasonal produce. If it's too hot for a fire\, they will make a cool drink like lemonade\, shrub\, or switchel.\n\n\n\nIncluded With General Admission.
X-ALT-DESC;FMTTYPE=text/html:Pickles. Lemonade. Switchel. Berry Preserves. Weather permitting\, our hearth cooks will light a small fire and make pickles or preserves using fresh seasonal produce. If it&rsquo\;s too hot for a fire\, they will make a cool drink like lemonade\, shrub\, or switchel.<br />\n<br />\nIncluded With General Admission.&nbsp\;
LOCATION:Historic Deerfield
UID:e.2182.19862
SEQUENCE:3
DTSTAMP:20260425T030733Z
URL:https://chamber.franklincc.org/events/details/open-hearth-cooking-demonstrations-sweet-and-sour-pickles-preserves-and-refreshing-summer-foods-07-15-2023-19862
END:VEVENT

END:VCALENDAR
