BEGIN:VCALENDAR
VERSION:2.0
PRODID:-//ChamberMaster//Event Calendar 2.0//EN
METHOD:PUBLISH
X-PUBLISHED-TTL:P3D
REFRESH-INTERVAL:P3D
CALSCALE:GREGORIAN
BEGIN:VEVENT
DTSTART:20230527T133000Z
DTEND:20230527T200000Z
X-MICROSOFT-CDO-ALLDAYEVENT:FALSE
SUMMARY:Open Hearth Cooking Demonstration: Baking in the Beehive Oven
DESCRIPTION:We will spend the morning firing the beehive oven for baking day. Our hearth cooks will be making bread\, pies\, or little cakes (cookies) in the afternoon.
X-ALT-DESC;FMTTYPE=text/html:<div class="xdj266r x11i5rnm xat24cr x1mh8g0r x1vvkbs" style="margin: 0px\; overflow-wrap: break-word\; font-family: &quot\;Segoe UI Historic&quot\;\, &quot\;Segoe UI&quot\;\, Helvetica\, Arial\, sans-serif\; color: rgb(5\, 5\, 5)\; font-size: 15px\;">We will spend the morning firing the beehive oven for baking day. Our hearth cooks will be making bread\, pies\, or little cakes (cookies) in the afternoon.</div>\n\n<div class="x11i5rnm xat24cr x1mh8g0r x1vvkbs xtlvy1s" style="margin: 0.5em 0px 0px\; overflow-wrap: break-word\; font-family: &quot\;Segoe UI Historic&quot\;\, &quot\;Segoe UI&quot\;\, Helvetica\, Arial\, sans-serif\; color: rgb(5\, 5\, 5)\; font-size: 15px\;">&nbsp\;</div>\n
LOCATION:Hall Tavern Kitchen Historic Deerfield 80 Old Main Street\, Deerfield
UID:e.2182.19831
SEQUENCE:3
DTSTAMP:20260425T002311Z
URL:https://chamber.franklincc.org/events/details/open-hearth-cooking-demonstration-baking-in-the-beehive-oven-19831
END:VEVENT

END:VCALENDAR
