BEGIN:VCALENDAR
VERSION:2.0
PRODID:-//ChamberMaster//Event Calendar 2.0//EN
METHOD:PUBLISH
X-PUBLISHED-TTL:P3D
REFRESH-INTERVAL:P3D
CALSCALE:GREGORIAN
BEGIN:VEVENT
DTSTART:20230928T170000Z
DTEND:20230928T200000Z
X-MICROSOFT-CDO-ALLDAYEVENT:FALSE
SUMMARY:Old-Growth Trek: Dunbar Brook
DESCRIPTION:Ages 8 to adult. Hike the Dunbar Brook Trail in Monroe State Forest. A moderate brookside trail to a forest that has never been timbered\; old-growth forest represents 0.1% of Massachusetts woodlands\, making it the rarest ecosystem in the state and a place of unique beauty and invaluable worth. 2 mile educational hike with option to explore further for incredible vistas. Trail can be narrow and very steep in old-growth section\; hiking poles recommended but not required. Meet at Dunbar Brook Trailhead. Use GPS for directions to Dunbar Brook Trailhead on River Road\, Monroe\, MA   25-minute drive from Charlemont center.
X-ALT-DESC;FMTTYPE=text/html:<span style="color:black"><span style="font-family:georgia\,serif"><span style="font-size:12pt">Ages 8 to adult. Hike the Dunbar Brook Trail in Monroe State Forest.&nbsp\;</span></span></span><span style="color:black"><span style="font-family:georgia\,serif"><span style="font-size:12pt">A&nbsp\;<strong>moderate&nbsp\;</strong>brookside trail to a forest that has never been timbered\; old-growth forest represents 0.1% of Massachusetts woodlands\, making it the rarest ecosystem in the state and a place of unique beauty and invaluable worth. 2 mile educational hike with option to explore further for incredible vistas. Trail can be narrow and very steep in old-growth section\; hiking poles recommended but not required.&nbsp\;<strong>Meet at Dunbar Brook Trailhead.&nbsp\;</strong>Use GPS for directions to&nbsp\;<em>Dunbar Brook Trailhead on River Road\, Monroe\, MA &mdash\;&nbsp\;</em>25-minute drive from Charlemont center.</span></span></span>
LOCATION:Dunbar Brook Trailhead\, River Road\, Monroe\, MA 01350.
UID:e.2182.20367
SEQUENCE:3
DTSTAMP:20260425T011207Z
URL:https://chamber.franklincc.org/events/details/old-growth-trek-dunbar-brook-09-28-2023-20367
END:VEVENT

END:VCALENDAR
