BEGIN:VCALENDAR
VERSION:2.0
PRODID:-//ChamberMaster//Event Calendar 2.0//EN
METHOD:PUBLISH
X-PUBLISHED-TTL:P3D
REFRESH-INTERVAL:P3D
CALSCALE:GREGORIAN
BEGIN:VEVENT
DTSTART:20240727T140000Z
DTEND:20240727T150000Z
X-MICROSOFT-CDO-ALLDAYEVENT:FALSE
SUMMARY:Nice & Easy Walk: Downtown Restaurants Food\, Farms\, and Factories Edition
DESCRIPTION:Easy-paced\, 1 to 2-mile guided walk\, along the Canalside Rail Trail or downtown Turners Falls\, geared for seniors\, but open to all. Enjoy natural and local history highlights along the way. Join us as we highlight local restaurants downtown and explore their connections to local food. Dress for the weather with sturdy footwear and bring water. Inclement weather cancels. Meet at the main entrance.\n\n\n\nFood\, Farms\, & Factories: In 2024\, the Friends of the Great Falls Discovery Center present programs and exhibits about Food\, Farms\, and Factories\, continuing conversations about rural life in Turners Falls and Franklin County. Supported by the Friends of the Great Falls Discovery Center\, RiverCulture\, the Pocumtuck Valley Memorial Association\, the Department of Conservation and Recreation\, and Montague Public Libraries. Funded by Mass Humanities through the Massachusetts Cultural Council and the National Endowment for the Humanities. Visit greatfallsdiscoverycenter.org/foodfarmsandfactories to learn more.
X-ALT-DESC;FMTTYPE=text/html:Easy-paced\, 1 to 2-mile guided walk\, along the Canalside Rail Trail or downtown Turners Falls\, geared for seniors\, but open to all. Enjoy natural and local history highlights along the way. Join us as we highlight local restaurants downtown and explore their connections to local food. Dress for the weather with sturdy footwear and bring water. Inclement weather cancels. Meet at the main entrance.<br />\n<br />\nFood\, Farms\, &amp\; Factories: In 2024\, the Friends of the Great Falls Discovery Center present programs and exhibits about Food\, Farms\, and Factories\, continuing conversations about rural life in Turners Falls and Franklin County. Supported by the Friends of the Great Falls Discovery Center\, RiverCulture\, the Pocumtuck Valley Memorial Association\, the Department of Conservation and Recreation\, and Montague Public Libraries. Funded by Mass Humanities through the Massachusetts Cultural Council and the National Endowment for the Humanities. Visit greatfallsdiscoverycenter.org/foodfarmsandfactories to learn more.
LOCATION:Meet at Main Entrance - Great Falls Discovery Center 2 Avenue A\, Turners Falls\, MA
UID:e.2182.23196
SEQUENCE:3
DTSTAMP:20260424T125729Z
URL:https://chamber.franklincc.org/events/details/nice-easy-walk-downtown-restaurants-food-farms-and-factories-edition-23196
END:VEVENT

END:VCALENDAR
