BEGIN:VCALENDAR
VERSION:2.0
PRODID:-//ChamberMaster//Event Calendar 2.0//EN
METHOD:PUBLISH
X-PUBLISHED-TTL:P3D
REFRESH-INTERVAL:P3D
CALSCALE:GREGORIAN
BEGIN:VEVENT
DTSTART:20250525T150000Z
DTEND:20250525T163000Z
X-MICROSOFT-CDO-ALLDAYEVENT:FALSE
SUMMARY:New Salem Memorial Day Ceremony
DESCRIPTION:A new stone will be unveiled at the veterans memorial at 11 a.m.\n\n\n\nA ceremony will start at Center Cemetery at 11:05 a.m. There will be a color guard\, opening remarks\, a brief sermon and prayer\, a recital of "My Country\, 'Tis of Thee" and a playing of taps. \n\n\n\nSimilar ceremonies will take place at Mountain View Cemetery at 11:40 a.m. and North New Salem Cemetery at 12:15 p.m.
X-ALT-DESC;FMTTYPE=text/html:A new stone will be unveiled at the veterans memorial at 11 a.m.<br />\n<br />\nA ceremony will start at Center Cemetery at 11:05 a.m. There will be a color guard\, opening remarks\, a brief sermon and prayer\, a recital of &ldquo\;My Country\, &rsquo\;Tis of Thee&rdquo\; and a playing of taps.&nbsp\;<br />\n<br />\nSimilar ceremonies will take place at Mountain View Cemetery at 11:40 a.m. and North New Salem Cemetery at 12:15 p.m.
LOCATION:
UID:e.2182.24744
SEQUENCE:3
DTSTAMP:20260423T202153Z
URL:https://chamber.franklincc.org/events/details/new-salem-memorial-day-ceremony-05-25-2025-24744
END:VEVENT

END:VCALENDAR
