BEGIN:VCALENDAR
VERSION:2.0
PRODID:-//ChamberMaster//Event Calendar 2.0//EN
METHOD:PUBLISH
X-PUBLISHED-TTL:P3D
REFRESH-INTERVAL:P3D
CALSCALE:GREGORIAN
BEGIN:VEVENT
DTSTART:20250710T190000Z
DTEND:20250710T210000Z
X-MICROSOFT-CDO-ALLDAYEVENT:FALSE
SUMMARY:Needle-Felting for Teens and Tweens
DESCRIPTION:Learn tips and tricks for needle felting while making a 2D monarch butterfly. For ages 11-19. Visit montaguepubliclibraries.org to sign up or call 413-863-3214. Sponsored by the Montague Public Libraries. This program is supported by grant funds from the Institute of Museum and Library Services as administered by the Massachusetts Board of Library Commissioners. Meet in the Great Hall.
X-ALT-DESC;FMTTYPE=text/html:Learn tips and tricks for needle felting while making a 2D monarch butterfly. For ages 11-19. Visit montaguepubliclibraries.org to sign up or call 413-863-3214. Sponsored by the Montague Public Libraries. This program is supported by grant funds from the Institute of Museum and Library Services as administered by the Massachusetts Board of Library Commissioners. Meet in the Great Hall.<br />\n
LOCATION:Great Falls Discovery Center 2 Avenue A Turners Falls\, MA
UID:e.2182.24874
SEQUENCE:3
DTSTAMP:20260424T001319Z
URL:https://chamber.franklincc.org/events/details/needle-felting-for-teens-and-tweens-24874
END:VEVENT

END:VCALENDAR
