BEGIN:VCALENDAR
VERSION:2.0
PRODID:-//ChamberMaster//Event Calendar 2.0//EN
METHOD:PUBLISH
X-PUBLISHED-TTL:P3D
REFRESH-INTERVAL:P3D
CALSCALE:GREGORIAN
BEGIN:VEVENT
DTSTART:20210309T223000Z
DTEND:20210309T233000Z
X-MICROSOFT-CDO-ALLDAYEVENT:FALSE
SUMMARY:Native Plants as Insect Habitat
DESCRIPTION:Join Charley Eiseman for this beautifully illustrated program highlighting common native plants\, host-specific insect relationships and the insects themselves.\n\n\n\nCharley shares his fascination and enthusiasm for the world of insects in his programs as well as in his popular BugTracks blog and award-winning book\, Tracks and Sign of Insects and Other Invertebrates: A Guide to North American Species.  His scientific discoveries include many new species of insects\, even several found in his own front yard!  Find out what can happen if you stop mowing your lawn. This free Zoom event is co-sponsored with the Dickinson Memorial Library and the Northfield Bird Club. Email dmemlib@gmail.com to register for this program.
X-ALT-DESC;FMTTYPE=text/html:Join Charley Eiseman for this beautifully illustrated program highlighting common native plants\, host-specific insect relationships and the insects themselves.<br />\n<br />\nCharley shares his fascination and enthusiasm for the world of insects in his programs as well as in his popular BugTracks blog and award-winning book\, Tracks and Sign of Insects and Other Invertebrates: A Guide to North American Species.&nbsp\; His scientific discoveries include many new species of insects\, even several found in his own front yard!&nbsp\; Find out what can happen if you stop mowing your lawn. This free Zoom event is co-sponsored with the Dickinson Memorial Library and the Northfield Bird Club. Email <a href="mailto:dmemlib@gmail.com">dmemlib@gmail.com</a> to register for this program.
LOCATION:
UID:e.2182.17838
SEQUENCE:3
DTSTAMP:20260420T041423Z
URL:https://chamber.franklincc.org/events/details/native-plants-as-insect-habitat-17838
END:VEVENT

END:VCALENDAR
