BEGIN:VCALENDAR
VERSION:2.0
PRODID:-//ChamberMaster//Event Calendar 2.0//EN
METHOD:PUBLISH
X-PUBLISHED-TTL:P3D
REFRESH-INTERVAL:P3D
CALSCALE:GREGORIAN
BEGIN:VEVENT
DTSTART:20250510T163000Z
DTEND:20250510T211500Z
X-MICROSOFT-CDO-ALLDAYEVENT:FALSE
SUMMARY:Música Franklin’s 7th Annual Fun Fest
DESCRIPTION:Join M sica Franklin for our 7th Annual Fun Fest\, a free all-ages festival of live music\, crafts\, and activities! Enjoy world-class performers\, shop local craft vendors\, get your face painted\, try out a musical instrument at our "instrument petting zoo"\, and grab a bite from Stone Soup Cafe. Don't miss the fun\, happening Saturday\, May 10th from 12:30-5:15 at Unity Park in Turners Falls. In case of rain\, Fun Fest will take place at Greenfield High School. Afterwards\, keep the party going at The Rendezvous\, where renowned trumpeter Saskia Laroo will perform from 7:00pm followed by an open jam session at 8:30.\n\nFun Fest will feature a vibrant line-up of performers\, including Jazzkia Meets HipHop\, Larksgrove\, M sica Franklin students\, Roberto Pi eiro y su Orquesta Sensacional\, and the Turners Falls High School Music Department. The day will also include an interactive drum circle with Abdou Sarr\, a dance party for all ages led by Anne Cubberly's Giant Puppets\, and arts and crafts facilitated by Artspace Greenfield.
X-ALT-DESC;FMTTYPE=text/html:<span style="color:black\;"><span style="font-family:calibri\,sans-serif\;">Join M&uacute\;sica Franklin for our 7<sup>th</sup> Annual Fun Fest\, a <em>free</em> all-ages festival of live music\, crafts\, and activities! Enjoy world-class performers\, shop local craft vendors\, get your face painted\, try out a musical instrument at our &ldquo\;instrument petting zoo&rdquo\;\, and grab a bite from Stone Soup Cafe. Don&rsquo\;t miss the fun\, happening <strong>Saturday\, May 10<sup>th</sup></strong> from <strong>12:30-5:15</strong> at Unity Park in Turners Falls. In case of rain\, Fun Fest will take place at Greenfield High School. Afterwards\, keep the party going at The Rendezvous<span style="background:white\;">\, where renowned trumpeter Saskia Laroo will perform from 7:00pm followed by an open jam session at 8:30.</span></span></span><br />\n<span style="color:black\;"><span style="font-family:calibri\,sans-serif\;">Fun Fest will feature a vibrant line-up of performers\, including Jazzkia Meets HipHop\, Larksgrove\, M&uacute\;sica Franklin students\, Roberto Pi&ntilde\;eiro y su Orquesta Sensacional\, and the Turners Falls High School Music Department. The day will also include an interactive drum circle with Abdou Sarr\, a dance party for all ages led by Anne Cubberly&rsquo\;s Giant Puppets\, and arts and crafts facilitated by Artspace Greenfield.</span></span><br />\n<br />\n<br />\n&nbsp\;
LOCATION:Unity Park in Turners Falls
UID:e.2182.24547
SEQUENCE:3
DTSTAMP:20260423T204429Z
URL:https://chamber.franklincc.org/events/details/m&#250;sica-franklin-s-7th-annual-fun-fest-24547
END:VEVENT

END:VCALENDAR
