BEGIN:VCALENDAR
VERSION:2.0
PRODID:-//ChamberMaster//Event Calendar 2.0//EN
METHOD:PUBLISH
X-PUBLISHED-TTL:P3D
REFRESH-INTERVAL:P3D
CALSCALE:GREGORIAN
BEGIN:VEVENT
DTSTART:20231012T214500Z
DTEND:20231012T224500Z
X-MICROSOFT-CDO-ALLDAYEVENT:FALSE
SUMMARY:Música Franklin Community Concert
DESCRIPTION:Join M sica Franklin for a student performance and family-friendly concert with Banda K-ri-B. Banda K-ri-B is a band from New England that was formed in the summer of 2023 by four talented and dynamic musicians from three different Caribbean origins\, Cuba\, Puerto Rico and Venezuela. These musicians currently work together for several different national and international artists\, and they decided to unite their talents for a new project focused on Caribbean music. The members are: William "Wilo" Rodriguez (voice and percussion)\, Rene Gonz lez (voice and bass)\, Ahmed Gonz lez (voice and flute) and Abraham "Abe" Sanchez (voice and keyboards). This concert is free and open to the public. This program is supported in part by a grant from the Gill and Montague Local Cultural Councils\, local agencies which are supported by the Mass Cultural Council\, a state agency.
X-ALT-DESC;FMTTYPE=text/html:Join M&uacute\;sica Franklin for a student performance and family-friendly concert with Banda K-ri-B. Banda K-ri-B is a band from New England that was formed in the summer of 2023 by four talented and dynamic musicians from three different Caribbean origins\, Cuba\, Puerto Rico and Venezuela. These musicians currently work together for several different national and international artists\, and they decided to unite their talents for a new project focused on Caribbean music. The members are: William &ldquo\;Wilo&rdquo\; Rodriguez (voice and percussion)\, Rene Gonz&aacute\;lez (voice and bass)\, Ahmed Gonz&aacute\;lez (voice and flute) and Abraham &ldquo\;Abe&rdquo\; Sanchez (voice and keyboards). This concert is free and open to the public. This program is supported in part by a grant from the Gill and Montague Local Cultural Councils\, local agencies which are supported by the Mass Cultural Council\, a state agency.
LOCATION:Sheffield Elementary School (43 Crocker Ave\, Turners Falls)
UID:e.2182.22203
SEQUENCE:3
DTSTAMP:20260424T235103Z
URL:https://chamber.franklincc.org/events/details/m&#250;sica-franklin-community-concert-22203
END:VEVENT

END:VCALENDAR
