BEGIN:VCALENDAR
VERSION:2.0
PRODID:-//ChamberMaster//Event Calendar 2.0//EN
METHOD:PUBLISH
X-PUBLISHED-TTL:P3D
REFRESH-INTERVAL:P3D
CALSCALE:GREGORIAN
BEGIN:VEVENT
DTSTART:20250920T233000Z
DTEND:20250921T010000Z
X-MICROSOFT-CDO-ALLDAYEVENT:FALSE
SUMMARY:Myrtle Street Klezmer at 1794 Meetinghouse
DESCRIPTION:Myrtle Street Klezmer's high-energy music draws on Balkan\, Greek\, Arabic\, rock\, & jazz\, in addition to favorites from the classic and contemporary Klezmer repertoire. They work in the tradition of the old-world klezmer musicians\, singing in Yiddish\, Hebrew\, and Ladino   teaching audiences about the background and meaning of the music and the tradition.  Since 2021\, they've been connecting with audiences through performances\, workshops\, and presentations. \n\n\n\nJason Ditzian   clarinet\n\nMyk Freedman   guitar\n\nJesse Olsen Bay   bass\, bouzouki\, percussion\, vocals\n\nBea Carlson   accordion\, vocals\n\nDoug Plavin   percussion\n\nDan Baker   tuba\, trumpet\, banjo
X-ALT-DESC;FMTTYPE=text/html:Myrtle Street Klezmer&rsquo\;s high-energy music draws on Balkan\, Greek\, Arabic\, rock\, &amp\; jazz\, in addition to favorites from the classic and contemporary Klezmer repertoire. They work in the tradition of the old-world klezmer musicians\, singing in Yiddish\, Hebrew\, and Ladino &mdash\; teaching audiences about the background and meaning of the music and the tradition.&nbsp\; Since 2021\, they&rsquo\;ve been connecting with audiences through performances\, workshops\, and presentations.&nbsp\;<br />\n<br />\nJason Ditzian &mdash\; clarinet<br />\nMyk Freedman &mdash\; guitar<br />\nJesse Olsen Bay &mdash\; bass\, bouzouki\, percussion\, vocals<br />\nBea Carlson &mdash\; accordion\, vocals<br />\nDoug Plavin &mdash\; percussion<br />\nDan Baker &mdash\; tuba\, trumpet\, banjo
LOCATION:1794 Meetinghouse 26 South Main Street New Salem 01355
UID:e.2182.24927
SEQUENCE:3
DTSTAMP:20260424T032537Z
URL:https://chamber.franklincc.org/events/details/myrtle-street-klezmer-at-1794-meetinghouse-24927
END:VEVENT

END:VCALENDAR
