BEGIN:VCALENDAR
VERSION:2.0
PRODID:-//ChamberMaster//Event Calendar 2.0//EN
METHOD:PUBLISH
X-PUBLISHED-TTL:P3D
REFRESH-INTERVAL:P3D
CALSCALE:GREGORIAN
BEGIN:VEVENT
DTSTART;VALUE=DATE:20250823
DTEND;VALUE=DATE:20250824
TRANSP:TRANSPARENT
X-MICROSOFT-CDO-ALLDAYEVENT:TRUE
SUMMARY:Musical Journey with Jon and Li Waterman
DESCRIPTION:Jon and Li Waterman\, the singer and songwriting duo who perform as Sultana\, will appear in Monroe. \n\n\n\nThe free program is open to the public\, and no advance registration is needed to come and enjoy "History and Legends through Song". The show consists of carefully researched original songs\, traditional songs\, stories and narratives\, and a slide show. This particular program will explore intriguing characters\, events and legends from ancient Sumer to the present day. \n\nJon has an M.A. in Popular Music History from Prescott College\, an M.A. in Psychology from Kaplan University and a B.A. in History from Northern Arizona University. Li is a classically trained guitarist and singer who formerly fronted the Rhode Island band Alien Tesh.\n\n\n\nThe program is supported in part by a grant from the Cultural Council of Northern Berkshire\, a local agency supported by the Massachusetts Cultural Council\, a state agency\, and the Monroe Historical Society.
X-ALT-DESC;FMTTYPE=text/html:Jon and Li Waterman\, the singer and songwriting duo who perform as Sultana\, will appear in Monroe.&nbsp\;<br />\n<br />\nThe free program is open to the public\, and no advance registration is needed to come and enjoy &ldquo\;History and Legends through Song&rdquo\;. The show consists of carefully researched original songs\, traditional songs\, stories and narratives\, and a slide show. This particular program will explore intriguing characters\, events and legends from ancient Sumer to the present day.&nbsp\;<br />\nJon has an M.A. in Popular Music History from Prescott College\, an M.A. in Psychology from Kaplan University and a B.A. in History from Northern Arizona University. Li is a classically trained guitarist and singer who formerly fronted the Rhode Island band Alien Tesh.<br />\n<br />\nThe program is supported in part by a grant from the Cultural Council of Northern Berkshire\, a local agency supported by the Massachusetts Cultural Council\, a state agency\, and the Monroe Historical Society.<br />\n
LOCATION:Monroe Community Building Monroe\, MA
UID:e.2182.25091
SEQUENCE:3
DTSTAMP:20260424T013620Z
URL:https://chamber.franklincc.org/events/details/musical-journey-with-jon-and-li-waterman-25091
END:VEVENT

END:VCALENDAR
