BEGIN:VCALENDAR
VERSION:2.0
PRODID:-//ChamberMaster//Event Calendar 2.0//EN
METHOD:PUBLISH
X-PUBLISHED-TTL:P3D
REFRESH-INTERVAL:P3D
CALSCALE:GREGORIAN
BEGIN:VEVENT
DTSTART:20250129T163000Z
DTEND:20250129T180000Z
X-MICROSOFT-CDO-ALLDAYEVENT:FALSE
SUMMARY:Music Matters: Luncheon to Benefit Musica Franklin
DESCRIPTION:M sica Franklin is excited to announce its first Music Matters Benefit Luncheon!  This event is a free fundraiser for M sica Franklin. Register online by January 22nd at musicafranklin.org/musicmatters.\n\nThis event will celebrate M sica Franklin's 10-year anniversary and will honor some of the individuals who have helped the organization. "M sica Franklin has served hundreds of children in Franklin County\," says Executive Director Orice Jenkins. "Our hope is to raise funds for the organization and to inspire attendees by showing them M sica Franklin's impact in the community."\n\nM sica Franklin is a free music and social justice program for Franklin County students in grades 1-12. They develop musical skills and build social connections. Activities include singing\, drumming\, and playing string instruments. Students explore current events and voice their experiences in a safe environment through weekly social justice discussions. Find out more at: musicafranklin.org\n\nThis event is sponsored by Greenfield Savings Bank\, Greenfield Cooperative Bank\, and Freedom Credit Union.
X-ALT-DESC;FMTTYPE=text/html:<div class="xdj266r x11i5rnm xat24cr x1mh8g0r x1vvkbs" style="margin: 0px\; overflow-wrap: break-word\; font-family: &quot\;Segoe UI Historic&quot\;\, &quot\;Segoe UI&quot\;\, Helvetica\, Arial\, sans-serif\; color: rgb(8\, 8\, 9)\; font-size: 15px\;">M&uacute\;sica Franklin is excited to announce its first Music Matters Benefit Luncheon!&nbsp\; This event is a free fundraiser for M&uacute\;sica Franklin. Register online by <strong>January 22nd</strong> at&nbsp\;<a attributionsrc="/privacy_sandbox/comet/register/source/?xt=AZUxHbqAXklFPrtoP2mqnGYeXpG64sbqZOa-kmTA2aqprTmJpPKwzwxNjqrexHzmAKff2lOWnet2SUPD6M99FRgDoSiUGJp0lxbqtxKjqHilxZWuMqt1iEiLqHf7UVUrEV5z2OKEJJwK9PC3xef3KoU5K5reo3QGMPQ51iz5S5OD6FSev0TCKDyotmvs89Flf2guF2z5SgtCFdSMfbaApamtnkMHVn9yV4uNZyzjJKHSFv0NaAGvmR4mThs6s_YQOvY1grAih1gbsnG2014YH-4b1hVMYQwKBl1l89FbASBXxVatT3lr50KdKv7HIMVSeI7WdKH4pwzJX9lRF4sm1mq-rDn1RNUEy6OzZJWMIhNrblZbTv-KGvvsc8w9ipryZQtuS5nc4b2CfdVzhxu2UsDF0qFVE60RSkofuNY8xca1yi4Yu_B411vRkFBnOTOu1XBmzBZkM2s7rjdlPcJOv_oohbpYhw5kqeQyAwc9gk3TOJwSMbczh8JM4o49vZS2sG9Ct8Esil-jxjP-T1op9hfIJ58FYOI9Un9PUkkWX_HAfbwsOxq8lztjXzYReZJRpEIXjJLw5pEkpvsJh1s8XJXRdHr2YAJfGbzFbNE-Q3DqtMUKIQhdYHl8TFXg-spEpUt06_dOex5_KIAQLx_gbNUCCJPKgVnpshWpmFul9lMeFsa_YbJf52yXGubGWCfFaSYd2saiYIN4bNblJzhTMjqF2xCHpZHyvVCwHVxQE-QPuk7T4O_HmxcdUCVfkcKZ3HBGl9AXaPJepMaLGEIbC8egOUHxfodQBGaNCHWJkRO9PozsNbdbIcv4RliDf5Za3FKNoncxaOWLcHgyuZnr7P9T6i37NZXAaZ5QGrRDZn0BUQ" class="x1i10hfl xjbqb8w x1ejq31n xd10rxx x1sy0etr x17r0tee x972fbf xcfux6l x1qhh985 xm0m39n x9f619 x1ypdohk xt0psk2 xe8uvvx xdj266r x11i5rnm xat24cr x1mh8g0r xexx8yu x4uap5 x18d9i69 xkhd6sd x16tdsg8 x1hl2dhg xggy1nq x1a2a7pz x1sur9pj xkrqix3 x1fey0fg x1s688f" href="http://musicafranklin.org/musicmatters?fbclid=IwZXh0bgNhZW0CMTAAAR2cd6TW6pOKkQK23QnNRcKvGOaHgsotcypgoXunMOT52pWvb7udrd4oFX0_aem_ewfFjtZL-4u9g5g8abQhXw" rel="nofollow noreferrer" role="link" style="color: var(--blue-link)\; cursor: pointer\; text-decoration-line: none\; list-style: none\; margin: 0px\; text-align: inherit\; border-style: none\; padding: 0px\; box-sizing: border-box\; border-width: 0px\; outline: none\; -webkit-tap-highlight-color: transparent\; font-weight: 600\; touch-action: manipulation\; background-color: transparent\; display: inline\; font-family: inherit\;" tabindex="0" target="_blank">musicafranklin.org/musicmatters</a><a href="http://musicafranklin.org/musicmatters." target="_blank">.</a></div>\n\n<div class="x11i5rnm xat24cr x1mh8g0r x1vvkbs xtlvy1s" style="margin: 0.5em 0px 0px\; overflow-wrap: break-word\; font-family: &quot\;Segoe UI Historic&quot\;\, &quot\;Segoe UI&quot\;\, Helvetica\, Arial\, sans-serif\; color: rgb(8\, 8\, 9)\; font-size: 15px\;">This event will celebrate M&uacute\;sica Franklin&#39\;s 10-year anniversary and will honor some of the individuals who have helped the organization. &ldquo\;M&uacute\;sica Franklin has served hundreds of children in Franklin County\,&rdquo\; says Executive Director Orice Jenkins. &ldquo\;Our hope is to raise funds for the organization and to inspire attendees by showing them M&uacute\;sica Franklin&rsquo\;s impact in the community.&rdquo\;</div>\n\n<div class="x11i5rnm xat24cr x1mh8g0r x1vvkbs xtlvy1s" style="margin: 0.5em 0px 0px\; overflow-wrap: break-word\; font-family: &quot\;Segoe UI Historic&quot\;\, &quot\;Segoe UI&quot\;\, Helvetica\, Arial\, sans-serif\; color: rgb(8\, 8\, 9)\; font-size: 15px\;">M&uacute\;sica Franklin is a free music and social justice program for Franklin County students in grades 1-12. They develop musical skills and build social connections. Activities include singing\, drumming\, and playing string instruments. Students explore current events and voice their experiences in a safe environment through weekly social justice discussions. Find out more at:&nbsp\;<a attributionsrc="/privacy_sandbox/comet/register/source/?xt=AZUxHbqAXklFPrtoP2mqnGYeXpG64sbqZOa-kmTA2aqprTmJpPKwzwxNjqrexHzmAKff2lOWnet2SUPD6M99FRgDoSiUGJp0lxbqtxKjqHilxZWuMqt1iEiLqHf7UVUrEV5z2OKEJJwK9PC3xef3KoU5K5reo3QGMPQ51iz5S5OD6FSev0TCKDyotmvs89Flf2guF2z5SgtCFdSMfbaApamtnkMHVn9yV4uNZyzjJKHSFv0NaAGvmR4mThs6s_YQOvY1grAih1gbsnG2014YH-4b1hVMYQwKBl1l89FbASBXxVatT3lr50KdKv7HIMVSeI7WdKH4pwzJX9lRF4sm1mq-rDn1RNUEy6OzZJWMIhNrblZbTv-KGvvsc8w9ipryZQtuS5nc4b2CfdVzhxu2UsDF0qFVE60RSkofuNY8xca1yi4Yu_B411vRkFBnOTOu1XBmzBZkM2s7rjdlPcJOv_oohbpYhw5kqeQyAwc9gk3TOJwSMbczh8JM4o49vZS2sG9Ct8Esil-jxjP-T1op9hfIJ58FYOI9Un9PUkkWX_HAfbwsOxq8lztjXzYReZJRpEIXjJLw5pEkpvsJh1s8XJXRdHr2YAJfGbzFbNE-Q3DqtMUKIQhdYHl8TFXg-spEpUt06_dOex5_KIAQLx_gbNUCCJPKgVnpshWpmFul9lMeFsa_YbJf52yXGubGWCfFaSYd2saiYIN4bNblJzhTMjqF2xCHpZHyvVCwHVxQE-QPuk7T4O_HmxcdUCVfkcKZ3HBGl9AXaPJepMaLGEIbC8egOUHxfodQBGaNCHWJkRO9PozsNbdbIcv4RliDf5Za3FKNoncxaOWLcHgyuZnr7P9T6i37NZXAaZ5QGrRDZn0BUQ" class="x1i10hfl xjbqb8w x1ejq31n xd10rxx x1sy0etr x17r0tee x972fbf xcfux6l x1qhh985 xm0m39n x9f619 x1ypdohk xt0psk2 xe8uvvx xdj266r x11i5rnm xat24cr x1mh8g0r xexx8yu x4uap5 x18d9i69 xkhd6sd x16tdsg8 x1hl2dhg xggy1nq x1a2a7pz x1sur9pj xkrqix3 x1fey0fg x1s688f" href="http://musicafranklin.org" rel="nofollow noreferrer" role="link" style="color: var(--blue-link)\; cursor: pointer\; text-decoration-line: none\; list-style: none\; margin: 0px\; text-align: inherit\; border-style: none\; padding: 0px\; box-sizing: border-box\; border-width: 0px\; outline: none\; -webkit-tap-highlight-color: transparent\; font-weight: 600\; touch-action: manipulation\; background-color: transparent\; display: inline\; font-family: inherit\;" tabindex="0" target="_blank">musicafranklin.org</a></div>\n\n<div class="x11i5rnm xat24cr x1mh8g0r x1vvkbs xtlvy1s" style="margin: 0.5em 0px 0px\; overflow-wrap: break-word\; font-family: &quot\;Segoe UI Historic&quot\;\, &quot\;Segoe UI&quot\;\, Helvetica\, Arial\, sans-serif\; color: rgb(8\, 8\, 9)\; font-size: 15px\;">This event is sponsored by Greenfield Savings Bank\, Greenfield Cooperative Bank\, and Freedom Credit Union.</div>\n
LOCATION:Greenfield Community College in the Dining Commons 1 College Drive\, Greenfield
UID:e.2182.24085
SEQUENCE:3
DTSTAMP:20260424T001443Z
URL:https://chamber.franklincc.org/events/details/music-matters-luncheon-to-benefit-musica-franklin-24085
END:VEVENT

END:VCALENDAR
