BEGIN:VCALENDAR
VERSION:2.0
PRODID:-//ChamberMaster//Event Calendar 2.0//EN
METHOD:PUBLISH
X-PUBLISHED-TTL:P3D
REFRESH-INTERVAL:P3D
CALSCALE:GREGORIAN
BEGIN:VEVENT
DTSTART:20230506T233000Z
DTEND:20230507T013000Z
X-MICROSOFT-CDO-ALLDAYEVENT:FALSE
SUMMARY:MTRSD Presents "Guys & Dolls\, Jr."
DESCRIPTION:Bustling with gamblers\, missionaries\, and sassy showgirls\, this classic Broadway musical\, which many believe is the greatest musical ever created\, follows the unlikeliest of romantic pairings. Place your bets on love conquering all in this hilarious Broadway classic featuring a bushel of songs you know and love.
X-ALT-DESC;FMTTYPE=text/html:Bustling with gamblers\, missionaries\, and sassy showgirls\, this classic Broadway musical\, which many believe is the greatest musical ever created\, follows the unlikeliest of romantic pairings. Place your bets on love conquering all in this hilarious Broadway classic featuring a bushel of songs you know and love.
LOCATION:Mohawk Trail Regional High School Auditorium
UID:e.2182.19692
SEQUENCE:3
DTSTAMP:20260425T002422Z
URL:https://chamber.franklincc.org/events/details/mtrsd-presents-guys-dolls-jr-05-06-2023-19692
END:VEVENT

END:VCALENDAR
