BEGIN:VCALENDAR
VERSION:2.0
PRODID:-//ChamberMaster//Event Calendar 2.0//EN
METHOD:PUBLISH
X-PUBLISHED-TTL:P3D
REFRESH-INTERVAL:P3D
CALSCALE:GREGORIAN
BEGIN:VEVENT
DTSTART:20250222T000000Z
DTEND:20250222T013000Z
X-MICROSOFT-CDO-ALLDAYEVENT:FALSE
SUMMARY:Mt. Toby Concerts - Pamela Means
DESCRIPTION:Pamela Means\, solo acoustic\, singer-songwriter show!\n\n\n\nMt. Toby Concerts are presented by the Peace and Social Concerns Committee of the Mt. Toby Friends Meeting. We present monthly concerts\, featuring singer-songwriters of music for social change\, in service of the committee's mission of working for social\, economic and environmental justice.\n\n\n\nMusic for social change has the double advantage of addressing social justice issues on both the intellectual and emotional planes. It can stimulate\, encourage\, rally\, console and educate\, whether the topic of a song be about the past or present. Most encouraging are songs of hope for a peaceful future. We aim to do that through our music series.\n\n\n\nSuggested donations range between $15 to $30. Please be generous in supporting our performers.
X-ALT-DESC;FMTTYPE=text/html:<span style="color: rgb(0\, 0\, 0)\; font-family: acumin-pro\, Helvetica\, Arial\, sans-serif\; font-size: 16px\;">Pamela Means\, solo acoustic\, singer-songwriter show!<br />\n<br />\nMt. Toby Concerts are presented by the Peace and Social Concerns Committee of the Mt. Toby Friends Meeting. We present monthly concerts\, featuring singer-songwriters of music for social change\, in service of the committee&rsquo\;s mission of working for social\, economic and environmental justice.</span><br style="margin: 0px\; padding: 0px\; box-sizing: inherit\; color: rgb(0\, 0\, 0)\; font-family: acumin-pro\, Helvetica\, Arial\, sans-serif\; font-size: 16px\;" />\n<br style="margin: 0px\; padding: 0px\; box-sizing: inherit\; color: rgb(0\, 0\, 0)\; font-family: acumin-pro\, Helvetica\, Arial\, sans-serif\; font-size: 16px\;" />\n<span style="color: rgb(0\, 0\, 0)\; font-family: acumin-pro\, Helvetica\, Arial\, sans-serif\; font-size: 16px\;">Music for social change has the double advantage of addressing social justice issues on both the intellectual and emotional planes. It can stimulate\, encourage\, rally\, console and educate\, whether the topic of a song be about the past or present. Most encouraging are songs of hope for a peaceful future. We aim to do that through our music series.</span><br style="margin: 0px\; padding: 0px\; box-sizing: inherit\; color: rgb(0\, 0\, 0)\; font-family: acumin-pro\, Helvetica\, Arial\, sans-serif\; font-size: 16px\;" />\n<br style="margin: 0px\; padding: 0px\; box-sizing: inherit\; color: rgb(0\, 0\, 0)\; font-family: acumin-pro\, Helvetica\, Arial\, sans-serif\; font-size: 16px\;" />\n<span style="color: rgb(0\, 0\, 0)\; font-family: acumin-pro\, Helvetica\, Arial\, sans-serif\; font-size: 16px\;">Suggested donations range between $15 to $30. Please be generous in supporting our performers.</span>
LOCATION:194 Long Plain Rd. (Route 63)\, Leverett\, MA 01054
UID:e.2182.24234
SEQUENCE:3
DTSTAMP:20260424T000820Z
URL:https://chamber.franklincc.org/events/details/mt-toby-concerts-pamela-means-24234
END:VEVENT

END:VCALENDAR
