BEGIN:VCALENDAR
VERSION:2.0
PRODID:-//ChamberMaster//Event Calendar 2.0//EN
METHOD:PUBLISH
X-PUBLISHED-TTL:P3D
REFRESH-INTERVAL:P3D
CALSCALE:GREGORIAN
BEGIN:VEVENT
DTSTART:20230922T231500Z
DTEND:20230923T003000Z
X-MICROSOFT-CDO-ALLDAYEVENT:FALSE
SUMMARY:Movies in the Park – Super Mario Bros
DESCRIPTION:Enjoy a film outdoors on the big screen with family and friends! Movies begin at dusk\, but make sure you arrive early for the best viewing spots. Pack a picnic\, bring your blanket\, sit back\, relax\, and enjoy the show.\n\n\n\nBased on the Super Mario video games\, the animated film follows Mario on his adventures with his friends. Mario joins forces with Princess Peach and Toad. The trio is in search of Mario's brother Luigi. Together\, they hope to defeat the evil Bowser and save the Mushroom Kingdom from his destructive schemes.\n\nRated PG\n\n\n\nMovies in the Park are sponsored in part by Franklin First Federal Credit Union.
X-ALT-DESC;FMTTYPE=text/html:Enjoy a film outdoors on the big screen with family and friends! Movies begin at dusk\, but make sure you arrive early for the best viewing spots. Pack a picnic\, bring your blanket\, sit back\, relax\, and enjoy the show.<br />\n<br />\nBased on the Super Mario video games\, the animated film follows Mario on his adventures with his friends. Mario joins forces with Princess Peach and Toad. The trio is in search of Mario&#39\;s brother Luigi. Together\, they hope to defeat the evil Bowser and save the Mushroom Kingdom from his destructive schemes.<br />\nRated PG<br />\n<br />\nMovies in the Park are sponsored in part by Franklin First Federal Credit Union.
LOCATION:Beacon Field Greenfield
UID:e.2182.19822
SEQUENCE:3
DTSTAMP:20260425T011443Z
URL:https://chamber.franklincc.org/events/details/movies-in-the-park-super-mario-bros-19822
END:VEVENT

END:VCALENDAR
