BEGIN:VCALENDAR
VERSION:2.0
PRODID:-//ChamberMaster//Event Calendar 2.0//EN
METHOD:PUBLISH
X-PUBLISHED-TTL:P3D
REFRESH-INTERVAL:P3D
CALSCALE:GREGORIAN
BEGIN:VEVENT
DTSTART:20230819T001500Z
DTEND:20230819T013000Z
X-MICROSOFT-CDO-ALLDAYEVENT:FALSE
SUMMARY:Movies in the Park – Finding Nemo
DESCRIPTION:Enjoy a film outdoors on the big screen with family and friends! Movies begin at dusk\, but make sure you arrive early for the best viewing spots. Pack a picnic\, bring your blanket\, sit back\, relax\, and enjoy the show.\n\n\n\nAn overprotective clown fish named Marlin is desperate to find his missing son\, Nemo. During his search\, Marlin enlists the help of a forgetful blue tang\, and they head for Sydney. It's rumored that a fishnapped Nemo is living there in a dentist's aquarium.\n\nRated G\n\nMovies in the Park are sponsored in part by Franklin First Federal Credit Union.
X-ALT-DESC;FMTTYPE=text/html:Enjoy a film outdoors on the big screen with family and friends! Movies begin at dusk\, but make sure you arrive early for the best viewing spots. Pack a picnic\, bring your blanket\, sit back\, relax\, and enjoy the show.<br />\n<br />\nAn overprotective clown fish named Marlin is desperate to find his missing son\, Nemo. During his search\, Marlin enlists the help of a forgetful blue tang\, and they head for Sydney. It&#39\;s rumored that a fishnapped Nemo is living there in a dentist&#39\;s aquarium.<br />\nRated G<br />\nMovies in the Park are sponsored in part by Franklin First Federal Credit Union.
LOCATION:Beacon Field Greenfield
UID:e.2182.19821
SEQUENCE:3
DTSTAMP:20260425T023140Z
URL:https://chamber.franklincc.org/events/details/movies-in-the-park-finding-nemo-19821
END:VEVENT

END:VCALENDAR
